BEGIN:VCALENDAR
VERSION:2.0
PRODID:-//Il Trentino dei Bambini - ECPv6.13.2//NONSGML v1.0//EN
CALSCALE:GREGORIAN
METHOD:PUBLISH
X-WR-CALNAME:Il Trentino dei Bambini
X-ORIGINAL-URL:https://www.iltrentinodeibambini.it
X-WR-CALDESC:Eventi per Il Trentino dei Bambini
REFRESH-INTERVAL;VALUE=DURATION:PT1H
X-Robots-Tag:noindex
X-PUBLISHED-TTL:PT1H
BEGIN:VTIMEZONE
TZID:Europe/Rome
BEGIN:DAYLIGHT
TZOFFSETFROM:+0100
TZOFFSETTO:+0200
TZNAME:CEST
DTSTART:20260329T010000
END:DAYLIGHT
BEGIN:STANDARD
TZOFFSETFROM:+0200
TZOFFSETTO:+0100
TZNAME:CET
DTSTART:20261025T010000
END:STANDARD
END:VTIMEZONE
BEGIN:VEVENT
DTSTART;VALUE=DATE:20260328
DTEND;VALUE=DATE:20260406
DTSTAMP:20260422T221852
CREATED:20260303T210713Z
LAST-MODIFIED:20260303T210713Z
UID:10023021-1774656000-1775433599@www.iltrentinodeibambini.it
SUMMARY:Caccia alle uova
DESCRIPTION:Dal 28 marzo al 5 aprile 2026 \nAnche quest’anno un morbido coniglietto pasquale ha nascosto tante uova colorate nelle sale del museo: riuscirete a trovarle durante la vostra visita? Ogni uovo riporta un indizio utile per ricomporre una parola misteriosa che vi permetterà di partecipare all’estrazione di bellissimi premi! La caccia alle uova unisce gioco e didattica: non serve prenotarsi ed è compresa nel biglietto di ingresso del museo! \nDOVE: Museo di Scienze Naturali di Bolzano\nQUANDO: dal 28 marzo al 5 aprile 2026\nORARIO: orario di apertura del Museo\nPRENOTAZIONE: non necessaria \nInfo: Tel. 0471 412964 \nConosci il Museo di Scienze Naturali di Bolzano? Clicca Bolzano: Museo di Scienze Naturali\noppure apri questa pagina per scoprire tutti gli eventi per famiglie: Bolzano: attività family al Museo di Scienze Naturali
URL:https://www.iltrentinodeibambini.it/eventi/caccia-alle-uova/
LOCATION:Museo di Scienze Naturali dell’Alto Adige\, Via dei Bottai\, 1\, Bolzano\, 39100
CATEGORIES:Al Museo,Eventi speciali
GEO:46.501143;11.3568627
X-APPLE-STRUCTURED-LOCATION;VALUE=URI;X-ADDRESS=Museo di Scienze Naturali dell’Alto Adige Via dei Bottai 1 Bolzano 39100;X-APPLE-RADIUS=500;X-TITLE=Via dei Bottai\, 1:geo:11.3568627,46.501143
END:VEVENT
BEGIN:VEVENT
DTSTART;TZID=Europe/Rome:20260403T090000
DTEND;TZID=Europe/Rome:20260403T113000
DTSTAMP:20260422T221852
CREATED:20260106T110321Z
LAST-MODIFIED:20260106T110321Z
UID:10022744-1775206800-1775215800@www.iltrentinodeibambini.it
SUMMARY:Centro genitori bambini in biblioteca
DESCRIPTION:Uno spazio dedicato a genitori e bambini da o a 3 anni dove possono condividere momenti di gioco\, musica\, lettura e coccole. \n\nQuando: tutti i giovedì e i venerdì dalle 9.00 alle 11.45\nDove: biblioteca Ragazzi – palazzina Liberty\nCosto: partecipazione gratuita\nInfo: tel. 0461.889559 | biblioteca.ragazzi@comune.trento.it\n\nScoprite tutti gli appuntamenti per bambini e ragazzi nelle biblioteche del comune di Trento QUI.
URL:https://www.iltrentinodeibambini.it/eventi/centro-genitori-bambini-in-biblioteca-3-2/2026-04-03/
LOCATION:palazzina Liberty\, Piazza Dante\, Trento
CATEGORIES:Eventi speciali,In biblioteca
END:VEVENT
BEGIN:VEVENT
DTSTART;TZID=Europe/Rome:20260403T100000
DTEND;TZID=Europe/Rome:20260403T123000
DTSTAMP:20260422T221852
CREATED:20260219T184401Z
LAST-MODIFIED:20260219T184401Z
UID:10022955-1775210400-1775219400@www.iltrentinodeibambini.it
SUMMARY:Ritorno alle radici
DESCRIPTION:Passeggiata nel bosco alla scoperta dei magici profumi degli alberi\, con raccolta di rami per l’accensione del fuoco. Nel bosco gli odori delle piante\, del muschio e delle foglie bagnate si mescolano e si amplificano. Lungo il sentiero di Guagiola\, località sopra Tesero\, cerchiamo rami secchi da utilizzare per accendere un fuoco facendo attenzione a non danneggiare la vegetazione circostante. A fine passeggiata accenderemo un piccolo fuoco\, mentre il profumo del legno bruciato si mescola con l’aria fresca del bosco. È il momento di sorseggiare una tisana calda\, in un tempo sospeso di connessione con la natura\, ma anche con te stesso. \n\n\n\n\n\n\n\n\n\n\n\n\n\n\nEtà minima 6 anni\nAdatta a tutti\, richiesto un minimo di allenamento fisico\nIndossare vestiti comodi e tecnici\, guanti\, sciarpa\, berretto\, scarponcini da montagna.\nPortare maglietta di ricambio\, acqua e snack.\n\n\n\n\n\n\n\n\n\n\n\n\n\n\n\n\n\nQUANDO: tutti i venerdì alle ore 10.00 fino al 3 aprile 2026\nDURATA: 2\,5 ore\nPUNTO DI RITROVO: spiazzo lungo la strada sotto l’albergo Pozzole (Stava – TN)\nPREZZO: adulti 10 euro\, bambini 6-18 anni 5 euro. Gratuita con Fiemme Guest Card\nPRENOTAZIONE: online QUI\n\n\n\n\n\n\n\n\n\n\nInfo: Apt Val di Fiemme e Cembra\, tel. 0462 341419 – e-mail: booking@visitfiemme.it
URL:https://www.iltrentinodeibambini.it/eventi/ritorno-alle-radici/2026-04-03/
LOCATION:Stava\, Tesero\, TN\, Italia
CATEGORIES:Escursioni,Visite guidate
END:VEVENT
BEGIN:VEVENT
DTSTART;TZID=Europe/Rome:20260403T143000
DTEND;TZID=Europe/Rome:20260403T170000
DTSTAMP:20260422T221852
CREATED:20260106T110538Z
LAST-MODIFIED:20260106T110538Z
UID:10022764-1775226600-1775235600@www.iltrentinodeibambini.it
SUMMARY:Spazio giochi da tavolo
DESCRIPTION:Uno spazio dedicato a chi ha voglia di cimentarsi con i giochi da tavolo\, senza limiti d’età. \n\nQuando: tutti i venerdì dalle ore 14.30\nDove: biblioteca comunale – sede di Povo\nCosto: partecipazione libera e gratuita\nInfo: tel. 0461-889918 | e-mail biblioteca.povo@comune.trento.it\n\nScoprite tutti gli eventi per bambini e ragazzi nelle biblioteche comunali di Trento QUI.
URL:https://www.iltrentinodeibambini.it/eventi/spazio-giochi-da-tavolo-4-2/2026-04-03/
LOCATION:biblioteca di Povo\, Via Don Tommaso Dallafior
CATEGORIES:Eventi speciali,In biblioteca
END:VEVENT
BEGIN:VEVENT
DTSTART;TZID=Europe/Rome:20260403T143000
DTEND;TZID=Europe/Rome:20260403T183000
DTSTAMP:20260422T221852
CREATED:20250923T150526Z
LAST-MODIFIED:20250923T150526Z
UID:10021261-1775226600-1775241000@www.iltrentinodeibambini.it
SUMMARY:Spazio giochi da tavolo
DESCRIPTION:Uno spazio dedicato ai giochi da tavolo per bambini da 3 a 6 anni. \n\nQuando: ogni primo venerdì del mese da settembre 2025 a giugno 2026 dalle ore 14.30\nDove: biblioteca dei Ragazzi – palazzina Liberty\nCosto: partecipazione libera e gratuita\nInfo: tel. 0461 889559 | email: biblioteca.ragazzi@comune.trento.it\n\nScoprite tutti gli eventi per bambini e ragazzi nelle biblioteche comunali di Trento QUI.
URL:https://www.iltrentinodeibambini.it/eventi/spazio-giochi-da-tavolo-5/2026-04-03/
LOCATION:palazzina Liberty\, Piazza Dante\, Trento
CATEGORIES:In biblioteca
END:VEVENT
BEGIN:VEVENT
DTSTART;TZID=Europe/Rome:20260403T150000
DTEND;TZID=Europe/Rome:20260403T170000
DTSTAMP:20260422T221852
CREATED:20260106T111019Z
LAST-MODIFIED:20260106T111019Z
UID:10022779-1775228400-1775235600@www.iltrentinodeibambini.it
SUMMARY:Centro genitori bambini in biblioteca
DESCRIPTION:Uno spazio dedicato a genitori e bambini fino a 6 anni dove possono condividere momenti di gioco\, musica\, lettura e coccole. \n\nQuando: il venerdì\, ogni 2 settimane\, dalle ore 15.00\nDove: biblioteca comunale – sede di Meano\nCosto: partecipazione gratuita\nInfo: tel. 0461.889559\n\nScoprite tutti gli appuntamenti per bambini e ragazzi nelle biblioteche del comune di Trento QUI.
URL:https://www.iltrentinodeibambini.it/eventi/centro-genitori-bambini-in-biblioteca-2-2/2026-04-03/
LOCATION:Biblioteca di Meano\, Via delle Sugarine\, 26\, Meano 
CATEGORIES:Eventi speciali,In biblioteca
GEO:46.1262652;11.1167911
X-APPLE-STRUCTURED-LOCATION;VALUE=URI;X-ADDRESS=Biblioteca di Meano Via delle Sugarine 26 Meano;X-APPLE-RADIUS=500;X-TITLE=Via delle Sugarine\, 26:geo:11.1167911,46.1262652
END:VEVENT
BEGIN:VEVENT
DTSTART;TZID=Europe/Rome:20260403T150000
DTEND;TZID=Europe/Rome:20260403T170000
DTSTAMP:20260422T221852
CREATED:20260401T125311Z
LAST-MODIFIED:20260401T125409Z
UID:10023107-1775228400-1775235600@www.iltrentinodeibambini.it
SUMMARY:Caccia alle uova
DESCRIPTION:Il progetto Display di Fondazione Caritro ospita una caccia alle uova tra dettagli da osservare\, indizi da seguire e sorprese da scoprire\, il percorso invita a vivere la Collezione d’Arte in modo nuovo e coinvolgente. \n\nQuando: venerdì 3 aprile 2026 alle ore 15.00\nDove: Sala Maier a Pergine Valsugana\nTarget: 3-8 anni\nCosto: attività gratuita con iscrizione necessaria QUI\nInfo: tel. 376.2181575
URL:https://www.iltrentinodeibambini.it/eventi/caccia-alle-uova-2/
LOCATION:Sala Maier\, Piazza Serra\, Pergine Valsugana
CATEGORIES:Eventi speciali
END:VEVENT
BEGIN:VEVENT
DTSTART;TZID=Europe/Rome:20260403T160000
DTEND;TZID=Europe/Rome:20260403T173000
DTSTAMP:20260422T221852
CREATED:20260316T154200Z
LAST-MODIFIED:20260316T155659Z
UID:10023048-1775232000-1775237400@www.iltrentinodeibambini.it
SUMMARY:A tutta cupola KIDS
DESCRIPTION:Grazie al nuovo proiettore digitale\, il Planetario del Museo di Scienze e Archeologia diventa un piccolo cinema immersivo con proiezioni fulldome\, a tutta cupola\, per avere un’esperienza ancora più coinvolgente. I filmati\, con titoli che variano settimanalmente\, hanno una durata compresa tra i 20 ed i 30 minuti. \n\nProssimi appuntamenti 2026: \n\nsabato 28 marzo: La Regata spaziale\ngiovedì 2 aprile (speciale Pasqua) – Persi in Mezzo al Mare e La Forgia di Artemide\nvenerdì 3 aprile (speciale Pasqua) – Persi in Mezzo al Mare e La Forgia di Artemide\nlunedì 6 aprile (speciale Pasqua) – Persi in Mezzo al Mare e La Forgia di Artemide\nmartedì 7 aprile (speciale Pasqua) – Persi in Mezzo al Mare e La Forgia di Artemide\nmercoledì 8 aprile (speciale Pasqua) – Persi in Mezzo al Mare e La Forgia di Artemide\nsabato 11 aprile – Persi in Mezzo al Mare e La Forgia di Artemide\nsabato 25 aprile – Persi in Mezzo al Mare e La Forgia di Artemide\nsabato 9 maggio – Persi in Mezzo al Mare e La Forgia di Artemide\nsabato 23 maggio – Persi in Mezzo al Mare e La Forgia di Artemide\n\nORARIO:  alle ore 16.00 e alle 17.00 \nDOVE: Planetario del Museo di Scienze e Archeologia di Rovereto\nCOSTO: 3 euro a persona. Per gli appuntamenti KIDS viene richiesta la presenza di un adulto accompagnatore.\nPRENOTAZIONE:  Posti limitati\, prenotazione obbligatoria entro le 17.00 del giorno precedente l’inizio dell’attività.  FILMATI A TUTTA CUPOLA KIDS (consigliati per bambini e bambine dai 6 agli 11 anni): prenota QUI \n\nInfo: 0464 452800 – museo@fondazionemcr.it \nClicca per conoscere meglio il Super Planetario Digitale a Rovereto \nConosci il Museo di Scienze e Archeologia di Rovereto? Scopri di più in Fondazione Museo Civico Rovereto
URL:https://www.iltrentinodeibambini.it/eventi/a-tutta-cupola-kids-2/2026-04-03/
LOCATION:Museo di Scienze e Archeologia e Planetario\, Borgo Santa Caterina\, 41\, Rovereto\, 38068\, Italia
CATEGORIES:Al Museo,Eventi speciali,Spettacoli
END:VEVENT
BEGIN:VEVENT
DTSTART;TZID=Europe/Rome:20260403T170000
DTEND;TZID=Europe/Rome:20260403T183000
DTSTAMP:20260422T221852
CREATED:20260121T085122Z
LAST-MODIFIED:20260121T085122Z
UID:10022839-1775235600-1775241000@www.iltrentinodeibambini.it
SUMMARY:Viaggio alla scoperta delle Dolomiti
DESCRIPTION:Visita guidata per conoscere cosa rende queste montagne semplicemente… uniche! \n\nQuando: 6\, 13\, 20 e 27 febbraio | 6\, 13\, 20 e 27 marzo 3 aprile e 1 maggio 2026 alle ore 17.00\nDove: Museo Geologico delle Dolomiti\nCosto: 3 euro oltre il biglietto d’ingresso\nInfo: target 10+ | attività su prenotazione QUI \n\nScoprite tutti gli appuntamenti per bambini e famiglie al Museo Geologico delle Dolomiti QUI.
URL:https://www.iltrentinodeibambini.it/eventi/viaggio-alla-scoperta-delle-dolomiti-2/2026-04-03/
LOCATION:Museo Geologico delle Dolomiti\, Piazza SS. Filippo e Giacomo 1\, Predazzo 
CATEGORIES:Al Museo,Visite guidate
GEO:46.3128605;11.602666
X-APPLE-STRUCTURED-LOCATION;VALUE=URI;X-ADDRESS=Museo Geologico delle Dolomiti Piazza SS. Filippo e Giacomo 1 Predazzo;X-APPLE-RADIUS=500;X-TITLE=Piazza SS. Filippo e Giacomo 1:geo:11.602666,46.3128605
END:VEVENT
BEGIN:VEVENT
DTSTART;TZID=Europe/Rome:20260403T200000
DTEND;TZID=Europe/Rome:20260403T233000
DTSTAMP:20260422T221852
CREATED:20260209T095336Z
LAST-MODIFIED:20260209T095336Z
UID:10022918-1775246400-1775259000@www.iltrentinodeibambini.it
SUMMARY:Nanna al Muse
DESCRIPTION:Un’opportunità speciale per tutta la famiglia che per un’intera notte può trasferirsi al museo e partecipare alle attività laboratoriali\, divertirsi con gli spettacoli\, partecipare a una caccia al tesoro alla scoperta dei segreti del museo e\, infine\, coricarsi sognando avventure scientifiche. \n\nQuando: 14 febbraio | 3 aprile | 29 maggio | 30 ottobre | 4 dicembre 2026 dalle ore 20.00\nDove: Muse – Trento\nCosto: euro 50 | acquistate il biglietto QUI\nInfo: target 4-12 anni con adulto accompagnatore\n\nIl programma completo dell’evento\, le tariffe\, le date e tutte le informazioni QUI.
URL:https://www.iltrentinodeibambini.it/eventi/nanna-al-muse-4-2/2026-04-03/
LOCATION:MUSE\, Italia
CATEGORIES:Al Museo,Eventi speciali
GEO:46.0700915;11.1197626
END:VEVENT
END:VCALENDAR