BEGIN:VCALENDAR
VERSION:2.0
PRODID:-//Il Trentino dei Bambini - ECPv6.13.2//NONSGML v1.0//EN
CALSCALE:GREGORIAN
METHOD:PUBLISH
X-ORIGINAL-URL:https://www.iltrentinodeibambini.it
X-WR-CALDESC:Eventi per Il Trentino dei Bambini
REFRESH-INTERVAL;VALUE=DURATION:PT1H
X-Robots-Tag:noindex
X-PUBLISHED-TTL:PT1H
BEGIN:VTIMEZONE
TZID:Europe/Rome
BEGIN:DAYLIGHT
TZOFFSETFROM:+0100
TZOFFSETTO:+0200
TZNAME:CEST
DTSTART:20260329T010000
END:DAYLIGHT
BEGIN:STANDARD
TZOFFSETFROM:+0200
TZOFFSETTO:+0100
TZNAME:CET
DTSTART:20261025T010000
END:STANDARD
END:VTIMEZONE
BEGIN:VEVENT
DTSTART;VALUE=DATE:20260328
DTEND;VALUE=DATE:20260406
DTSTAMP:20260422T222013
CREATED:20260303T210713Z
LAST-MODIFIED:20260303T210713Z
UID:10023021-1774656000-1775433599@www.iltrentinodeibambini.it
SUMMARY:Caccia alle uova
DESCRIPTION:Dal 28 marzo al 5 aprile 2026 \nAnche quest’anno un morbido coniglietto pasquale ha nascosto tante uova colorate nelle sale del museo: riuscirete a trovarle durante la vostra visita? Ogni uovo riporta un indizio utile per ricomporre una parola misteriosa che vi permetterà di partecipare all’estrazione di bellissimi premi! La caccia alle uova unisce gioco e didattica: non serve prenotarsi ed è compresa nel biglietto di ingresso del museo! \nDOVE: Museo di Scienze Naturali di Bolzano\nQUANDO: dal 28 marzo al 5 aprile 2026\nORARIO: orario di apertura del Museo\nPRENOTAZIONE: non necessaria \nInfo: Tel. 0471 412964 \nConosci il Museo di Scienze Naturali di Bolzano? Clicca Bolzano: Museo di Scienze Naturali\noppure apri questa pagina per scoprire tutti gli eventi per famiglie: Bolzano: attività family al Museo di Scienze Naturali
URL:https://www.iltrentinodeibambini.it/eventi/caccia-alle-uova/
LOCATION:Museo di Scienze Naturali dell’Alto Adige\, Via dei Bottai\, 1\, Bolzano\, 39100
CATEGORIES:Al Museo,Eventi speciali
GEO:46.501143;11.3568627
X-APPLE-STRUCTURED-LOCATION;VALUE=URI;X-ADDRESS=Museo di Scienze Naturali dell’Alto Adige Via dei Bottai 1 Bolzano 39100;X-APPLE-RADIUS=500;X-TITLE=Via dei Bottai\, 1:geo:11.3568627,46.501143
END:VEVENT
BEGIN:VEVENT
DTSTART;VALUE=DATE:20260404
DTEND;VALUE=DATE:20260407
DTSTAMP:20260422T222013
CREATED:20260402T092930Z
LAST-MODIFIED:20260402T092930Z
UID:10023111-1775260800-1775519999@www.iltrentinodeibambini.it
SUMMARY:Primiero in fiore
DESCRIPTION:Esposizione e vendita di prodotti tipici nelle tradizionali casette in legno con laboratori\, spettacoli per i più piccoli\, giri in carrozza e musica. \n\nQuando: dal 4 al 6 aprile 2026\nDove: Fiera di Primiero\nCosto: evento libero e gratuito\nInfo: programma QUI\n\nTanti altri eventi per bambini a Pasqua QUI.
URL:https://www.iltrentinodeibambini.it/eventi/primiero-in-fiore/
LOCATION:Fiera di Primiero
CATEGORIES:Eventi speciali
END:VEVENT
BEGIN:VEVENT
DTSTART;TZID=Europe/Rome:20260405T090000
DTEND;TZID=Europe/Rome:20260405T163000
DTSTAMP:20260422T222013
CREATED:20260329T134929Z
LAST-MODIFIED:20260329T134929Z
UID:10023074-1775379600-1775406600@www.iltrentinodeibambini.it
SUMMARY:Caccia all'uovo a Castel Beseno
DESCRIPTION:CACCIA ALL’UOVO NEL CASTELLO –  negli ambienti del castello\, tra antiche mura\, affreschi\, sculture e dipinti\, qualcuno si è divertito a nascondere colorate uova di Pasqua! Sarà compito dei piccoli “cacciatori”\, aiutati da una mappa – e dai genitori -\, scovarle e risolvere tutti gli indovinelli. Attività autogestita. \n\nQuando: sabato 4\, domenica 5 e lunedì 6 aprile 2026 dalle ore 9.30 alle 16.00\nDove: Castel Beseno\nCosto: attività compresa nel biglietto d’ingresso\nInfo: target 5 – 10 anni\n\nAttività in autonomia \nInfo e contatti:  Castel Beseno \, tel. 0464 834600 – 0461 492811 | education@buonconsiglio.it
URL:https://www.iltrentinodeibambini.it/eventi/caccia-alluovo-a-castel-beseno/2026-04-05/
LOCATION:Castel Beseno\, Besenello
CATEGORIES:Eventi speciali
GEO:45.9409016;11.1122117
END:VEVENT
BEGIN:VEVENT
DTSTART;TZID=Europe/Rome:20260405T100000
DTEND;TZID=Europe/Rome:20260405T110000
DTSTAMP:20260422T222013
CREATED:20250908T123443Z
LAST-MODIFIED:20250908T123443Z
UID:10021143-1775383200-1775386800@www.iltrentinodeibambini.it
SUMMARY:Mi sento Fortunato!
DESCRIPTION:Visita animata alla Casa d’Arte Futurista Depero di Rovereto “Mi sento Fortunato”.  Un percorso alla scoperta dell’arte e della vita di Fortunato Depero basato sull’uso di uno speciale mazzo di carte. I partecipanti potranno pescare la loro carta “fortunata” che li indirizzerà a contenuti e sperimentazioni diverse: dal viaggio dell’artista a New York alle marionette per il teatro\, dalla sua visione della città di Rovereto alla tecnica delle tarsie in panno e in buxus. Attività consigliata per bambini dai 4 ai 10 anni. \nDOVE: Casa Depero – Rovereto\nQUANDO: tutte le prime domeniche del mese\, dalle 10.00 alle 11.00\nCOSTO: 5 euro a bambino\, accompagnatori: gratuito\nADATTO A: bambini 4-12 anni\nPRENOTAZIONI:  education@mart.tn.it. Dal lunedì al venerdì (ore 12.00) | online (vedi QUI) oppure contattando l’Area educazione del Mart: T. 0464 454135-108. Dal venerdì pomeriggio al sabato: biglietteria della Casa d’Arte Futurista Depero\, T. 0464.480273. \n\nScopri il MART e le sue sedi in:  Rovereto: al MART con i bambini;  \nScopri la  Casa d’Arte Futurista Depero
URL:https://www.iltrentinodeibambini.it/eventi/mi-sento-fortunato-3/2026-04-05/
LOCATION:Casa d’Arte Futurista Depero\, Via Portici 38\, Rovereto\, TN\, 38068\, Italia
CATEGORIES:Al Museo,Visite guidate
END:VEVENT
BEGIN:VEVENT
DTSTART;TZID=Europe/Rome:20260405T100000
DTEND;TZID=Europe/Rome:20260405T123000
DTSTAMP:20260422T222013
CREATED:20260219T191038Z
LAST-MODIFIED:20260219T191038Z
UID:10022968-1775383200-1775392200@www.iltrentinodeibambini.it
SUMMARY:Paneveggio\, sul Sentiero Marciò
DESCRIPTION:Il sentiero Marciò muta al cambiare delle stagioni. Nella sua veste bianca racconta storie di abeti e musica\, ma anche di ponti fiabeschi\, biodiversità\, vita che in inverno non va in letargo. L’attività verrà cancellata in caso di forte maltempo. Adatta a partire dai 6 anni. \n\n\nUna passeggiata naturalistica nel Parco Naturale di Paneveggio Pale di San Martino\, per esplorare la magia della foresta invernale e scoprire gli alberi della musica della Val di Fiemme. Durante l’escursione\, tappa sul ponte sospeso che si affaccia sulla spettacolare forra del Torrente Travignolo\, un luogo in cui lasciarsi sovrastare dalla bellezza dell’ambiente naturale che ci circonda. Qui la neve ha il potere di trasformare il paesaggio e di raccontare storie silenziose per chi sa guardare: emergono le tracce degli animali\, racconti di vita selvatica.  \n\n\n\n\n\n\n\nAl termine dell’attività si consiglia la visita del Centro Visitatori di Paneveggio con l’allestimento “SUONA FORESTA” (gratuito con Fiemme Cembra Guest Card e con Trentino Guest Card) \n\n\n\n\n\n\n\n\n\n\n\n\nIndossare vestiti comodi e tecnici\, guanti\, sciarpa\, berretto\, scarponcini da montagna.\nSi consiglia di portare maglietta di ricambio\, acqua e snack.\nPresenza di tratti con ghiaccio: è consigliato l’utilizzo dei ramponcini.\n\n\n\n\n\n\n\n\n\n\n\n\n\n\nQUANDO: tutte le domeniche alle ore 10.00 fino al 5 aprile 2026\nDURATA: 2\,5 ore\nPUNTO DI RITROVO: Centro visitatori del Parco Naturale Paneveggio –  Paneveggio\, TN\nPREZZO:\nPRENOTAZIONE: online QUI\n\n\n\n\n\n\n\n\n\n\nInfo: Apt Val di Fiemme e Cembra\, tel. 0462 341419 – e-mail: booking@visitfiemme.it \nScopri qui A Paneveggio con i cervi
URL:https://www.iltrentinodeibambini.it/eventi/paneveggio-sul-sentiero-marcio/2026-04-05/
LOCATION:Centro Visitatori Paneveggio – Predazzo\, SS50\, 11\, Predazzo\, Trentino\, 38037\, Italia
CATEGORIES:Escursioni,Visite guidate
END:VEVENT
BEGIN:VEVENT
DTSTART;TZID=Europe/Rome:20260405T100000
DTEND;TZID=Europe/Rome:20260405T170000
DTSTAMP:20260422T222013
CREATED:20260329T140508Z
LAST-MODIFIED:20260329T140508Z
UID:10023077-1775383200-1775408400@www.iltrentinodeibambini.it
SUMMARY:Caccia alle uova al Castello di Avio
DESCRIPTION:PASQUA E PASQUETTA AL CASTELLO | La caccia al tesoro dentro le mura del Castello si trasforma in una speciale caccia alle uova. L’occasione perfetta per vivere i giardini terrazzati e scoprire le sale affrescate di uno dei manieri più antichi del Trentino. Non mancherà la mostra mercato con i produttori del territorio. \n\nQuando: sabato 4\, domenica 5 e lunedì 6 aprile 2026 dalle ore 10.00 alle 17.00\nDove: Castello di Avio\nCosto: attività compresa nel biglietto d’ingresso\nInfo: target 4+ | tel. 0464.684453\n\n 
URL:https://www.iltrentinodeibambini.it/eventi/caccia-alle-uova-al-castello-di-avio/2026-04-05/
LOCATION:Castello di Avio\, Loc. Sabbionaria\, Avio\, 38063\, Italia
CATEGORIES:Eventi speciali
GEO:45.7327794;10.9397993
X-APPLE-STRUCTURED-LOCATION;VALUE=URI;X-ADDRESS=Castello di Avio Loc. Sabbionaria Avio 38063 Italia;X-APPLE-RADIUS=500;X-TITLE=Loc. Sabbionaria:geo:10.9397993,45.7327794
END:VEVENT
BEGIN:VEVENT
DTSTART;TZID=Europe/Rome:20260405T100000
DTEND;TZID=Europe/Rome:20260405T180000
DTSTAMP:20260422T222013
CREATED:20260315T141905Z
LAST-MODIFIED:20260315T141905Z
UID:10023037-1775383200-1775412000@www.iltrentinodeibambini.it
SUMMARY:Il castello delle leggende
DESCRIPTION:All’interno del castello di Castel Ivano\, da sabato 4 a lunedì 6 aprile 2026 dalle ore 10.00 alle ore 18.00 Messer Salvanèl è pronto ad accogliere grandi e bambini nel mondo delle leggende: bancarelle\, artisti di strada e tanti spettacoli per ogni età. \nPROGRAMMA QUOTIDIANO\n \n\nDalle 10.00 alle 18.00 – I RIEMPITEMPO – ALLA GRANDE QUERCIA\nIntorno alla Grande Quercia sia apre il Mondo dei Giochi Antichi\, grandi e piccini sono invitati a partecipare!\nDalle 10.00 alle 18.00 – LA SALA DEL TRONO\nEntra nella leggenda del Castello e lasciati incantare dalla Sala del Trono.\nDalle 11.00 alle 18.00 – LA CORTE DEI SAPORI\nEsplora gli stand del castello e scopri i sapori che più ti piacciono.\nDalle 14.00 alle 17.00LA SALA DEI DISEGNI\nLaboratorio di pittura a cura di Enrico Tomasi: qui piccoli e grandi possono dare forma alla loro immaginazione.\nDalle 14.00 alle 17.00 –Laboratorio creativo MY FAMILY ART\nLaboratorio creativo a cura di Ilenia Froner: qui prendono forma cartoline illustrate dedicate alle Leggende.\n\n\nInoltre\, lunedì 6 aprile dalle 15.00 alle 17.00 – CACCIA ALLE UOVA IN CASTELLO\nIn compagnia del Salvanèl e del NarraOra\, avventurati tra i vicoli del castello alla ricerca delle uova! \nTARIFFE INGRESSO\n€ 12\,00 adulti\n€ 8\,00 Valsugana Guest Card e residenti in Valsugana Lagorai\n€ 0\,00 ingresso gratuito\, bambini 0-12\,  persone disabili e accompagnatori \nLe iscrizioni ai laboratori avvengono presso il punto laboratori all’interno del Castello\, 30 minuti prima dell’inizio dell’attività.\nPer informazioni:\n \nAPT Valsugana Lagorai | 0461 727700 | info@visitvalsugana.it 
URL:https://www.iltrentinodeibambini.it/eventi/il-castello-delle-leggende/2026-04-05/
LOCATION:Castel Ivano\, via del Castello\, 1\, Castel Ivano\, Italia
CATEGORIES:Eventi speciali,Laboratori,Spazi d'incontro,Spettacoli
END:VEVENT
BEGIN:VEVENT
DTSTART;TZID=Europe/Rome:20260405T130000
DTEND;TZID=Europe/Rome:20260405T180000
DTSTAMP:20260422T222013
CREATED:20260403T145025Z
LAST-MODIFIED:20260403T145025Z
UID:10023114-1775394000-1775412000@www.iltrentinodeibambini.it
SUMMARY:Caccia alle uova tra le palafitte
DESCRIPTION:Caccia all’indizio per famiglie: attività da condurre in autonomia alla scoperta della vita quotidiana in palafitta. Al termine del percorso ogni partecipante riceverà un piccolo omaggio. \n\nQuando: sabato 4 e domenica 5 aprile dalle ore 13.00 alle 18.00\nDove: Parco Archeo Natura – Fiavè\nCosto: attività gratuita\nInfo: target 6+\n\nScoprite tanti altri appuntamenti per bambini e famiglie a Pasqua QUI.
URL:https://www.iltrentinodeibambini.it/eventi/caccia-alle-uova-tra-le-palafitte/2026-04-05/
LOCATION:Parco Archeo Natura\, Fiavé\, 38075\, Italia
CATEGORIES:Al Museo,Eventi speciali
END:VEVENT
BEGIN:VEVENT
DTSTART;TZID=Europe/Rome:20260405T150000
DTEND;TZID=Europe/Rome:20260405T153000
DTSTAMP:20260422T222013
CREATED:20250928T182105Z
LAST-MODIFIED:20250928T182105Z
UID:10021310-1775401200-1775403000@www.iltrentinodeibambini.it
SUMMARY:Il cielo in una stanza 3.0
DESCRIPTION:Gli esperti del Planetario della Fondazione  Museo Civico di Rovereto vi accompagneranno in un viaggio nel Cosmo\, partendo dalla Terra per esplorare il Sistema Solare\, con approfondimenti sulle missioni spaziali\, fino ad arrivare lontano verso nebulose e altri oggetti celesti\, in un susseguirsi di immagini e video spettacolari e coinvolgenti. \nAl raggiungimento del numero massimo di posti disponibili sarà attivato un secondo turno alle ore 16.30. \nTutte le domeniche alle ore 15.00 e\, se esaurito\, anche alle 16.30\nPosti limitati\, prenotazione obbligatoria entro le 17.00 del giorno precedente l’inizio dell’attività.\nLa tariffa di partecipazione è di euro 7 a persona. Biglietto QUI \nChi partecipa allo spettacolo al Planetario ha diritto a un biglietto di ingresso ridotto al museo (euro 7 + euro 5)\, acquistabile QUI \nInfo: 0464 452800 – museo@fondazionemcr.it \nConosci il Museo di Scienze e Archeologia di Rovereto? Scopri di più QUI
URL:https://www.iltrentinodeibambini.it/eventi/il-cielo-in-una-stanza-3-0-3/2026-04-05/
LOCATION:Museo di Scienze e Archeologia e Planetario\, Borgo Santa Caterina\, 41\, Rovereto\, 38068\, Italia
CATEGORIES:Al Museo,Spettacoli
END:VEVENT
END:VCALENDAR