BEGIN:VCALENDAR
VERSION:2.0
PRODID:-//Il Trentino dei Bambini - ECPv6.13.2//NONSGML v1.0//EN
CALSCALE:GREGORIAN
METHOD:PUBLISH
X-WR-CALNAME:Il Trentino dei Bambini
X-ORIGINAL-URL:https://www.iltrentinodeibambini.it
X-WR-CALDESC:Eventi per Il Trentino dei Bambini
REFRESH-INTERVAL;VALUE=DURATION:PT1H
X-Robots-Tag:noindex
X-PUBLISHED-TTL:PT1H
BEGIN:VTIMEZONE
TZID:Europe/Rome
BEGIN:DAYLIGHT
TZOFFSETFROM:+0100
TZOFFSETTO:+0200
TZNAME:CEST
DTSTART:20260329T010000
END:DAYLIGHT
BEGIN:STANDARD
TZOFFSETFROM:+0200
TZOFFSETTO:+0100
TZNAME:CET
DTSTART:20261025T010000
END:STANDARD
END:VTIMEZONE
BEGIN:VEVENT
DTSTART;TZID=Europe/Rome:20260420T163000
DTEND;TZID=Europe/Rome:20260420T173000
DTSTAMP:20260420T024649
CREATED:20260331T070129Z
LAST-MODIFIED:20260331T070129Z
UID:10023101-1776702600-1776706200@www.iltrentinodeibambini.it
SUMMARY:Letture di primavera
DESCRIPTION:Letture ad alta voce di albi illustrati per bambine e bambini a partire dai 3 anni. \n\nQuando: lunedì 20 aprile 2026 alle ore 16.30\nDove: biblioteca comunale – sede di Martignano\nCosto: partecipazione gratuita\nInfo: tel. 0461.828402 | email: ilcolibri.martignano@comune.trento.it.\n\nLe date possono subire delle modifiche tenetevi aggiornati consultando l’agenda sul sito della biblioteca. Per scoprire tutti gli eventi per bambini e ragazzi nelle biblioteche comunali cliccate QUI.
URL:https://www.iltrentinodeibambini.it/eventi/letture-di-primavera-2/
LOCATION:biblioteca di Martignano\, Piazza Giuseppe Menghin\, Trento
CATEGORIES:In biblioteca
END:VEVENT
BEGIN:VEVENT
DTSTART;TZID=Europe/Rome:20260420T173000
DTEND;TZID=Europe/Rome:20260420T183000
DTSTAMP:20260420T024649
CREATED:20260107T114202Z
LAST-MODIFIED:20260331T065907Z
UID:10022808-1776706200-1776709800@www.iltrentinodeibambini.it
SUMMARY:Il lunedì delle storie
DESCRIPTION:Letture ad alta voce per bambine e bambini dai 3 ai 6 anni. \n\nQuando: lunedì 20 aprile 2026 alle ore 17.30\nDove: biblioteca ragazzi – palazzina Liberty\nCosto: partecipazione libera e gratuita\nInfo: tel. 0461.889559 | e-mail: biblioteca.ragazzi@comune.trento.it.\n\nScoprite altre attività nelle biblioteche comunali di Treno QUI.
URL:https://www.iltrentinodeibambini.it/eventi/il-lunedi-delle-storie-2/
LOCATION:palazzina Liberty\, Piazza Dante\, Trento
CATEGORIES:In biblioteca
END:VEVENT
END:VCALENDAR