BEGIN:VCALENDAR
VERSION:2.0
PRODID:-//Il Trentino dei Bambini - ECPv6.13.2//NONSGML v1.0//EN
CALSCALE:GREGORIAN
METHOD:PUBLISH
X-WR-CALNAME:Il Trentino dei Bambini
X-ORIGINAL-URL:https://www.iltrentinodeibambini.it
X-WR-CALDESC:Eventi per Il Trentino dei Bambini
REFRESH-INTERVAL;VALUE=DURATION:PT1H
X-Robots-Tag:noindex
X-PUBLISHED-TTL:PT1H
BEGIN:VTIMEZONE
TZID:Europe/Rome
BEGIN:DAYLIGHT
TZOFFSETFROM:+0100
TZOFFSETTO:+0200
TZNAME:CEST
DTSTART:20260329T010000
END:DAYLIGHT
BEGIN:STANDARD
TZOFFSETFROM:+0200
TZOFFSETTO:+0100
TZNAME:CET
DTSTART:20261025T010000
END:STANDARD
END:VTIMEZONE
BEGIN:VEVENT
DTSTART;VALUE=DATE:20260425
DTEND;VALUE=DATE:20260504
DTSTAMP:20260422T192603
CREATED:20260417T120827Z
LAST-MODIFIED:20260417T120827Z
UID:10023162-1777075200-1777852799@www.iltrentinodeibambini.it
SUMMARY:Trento Film Festival - T4 Future Family: laboratori ed attività
DESCRIPTION:In occasione del Trento Film Festival\, in piazza Fiera a Trento verrà allestita una grande area destinata ai bambini ed alle loro famiglie. Ogni giorno sarà possibile partecipare a diversi laboratori\, giochi e attività\, che porteranno i più piccoli a conoscere diversi aspetti della montagna e della vita di montagna di oggi e di ieri. \nEcco alcuni dei laboratori che verranno attivati negli orari di apertura del festival. Per non perderti nemmeno un appuntamento scarica QUI il programma completo di T4 Future Family \n\nL’ARTE DEGLI EQUILIBRI | sabato 25 aprile dalle 16.30 | sperimentiamo gli equilibri del circo\nDALLA MONTAGNA AL MARE | tutti i giorni\, mattina e pomeriggio | gioco per scoprire come un rifiuto abbandonato in montagna può giungere fino al mare\nNELLA BOTTEGA DEL GIOCATTOLO | tutti i giorni\, mattina e pomeriggio | i giochi di un tempo per riscoprire abilità perdute.\nCIOTOLA IN ARGILLA | 26 aprile ore 10.00 | decora con fiori e rametti la tua ciotola in argilla\nI 10 SIMBOLI DELLA LONGEVITA’ DELL’ARTE COREANA | 25 aprile 2026 ore 16.30 e 28 e 30 aprile 2026 ore 15.30 | laboratorio artistico a cura dello Studio d’Arte Andromeda.\nZAPPE\, STIVALI E RASTRELLO | 27 aprile ore 16.30 | scopriamo l’arte di coltivare un orto\nAVVENTURE IN MONTAGNA PER PICCOLI ESCURSIONISTI | 29 e 30 aprile 2026 ore 15.30 | scopriamo i comportamenti corretti da tenere in montagna.\nI MESTIERI DELLA MONTAGNA | 27\, 28 e 30 aprile 2026 ore 11.00 | ascolta le storie di chi ha scelto di lavorare in montagna. Dai 6 anni.\nLABORATORIO DI CARTA | 28 aprile 2026 ore 15.30 | aboratorio che unisce creatività\, inclusione e sostenibilità. La Cooperativa Grazie alla Vita presenta il proprio percorso nella lavorazione della carta riciclata\, coinvolgendo il pubblico nella realizzazione di segnalibri e biglietti artigianali.\nHACK THE FUTURE | 28 aprile e 1 maggio 2026 ore 15.30 | Sperimenta\, costruisci\, scopri: scienza e tecnologia diventano strumenti per immaginare un futuro più sostenibile. Vieni a metterci le mani. Dai 6 anni\nDALL’IDEA ALLA LIBRERIA | 28 aprile 2026 ore 16.30 | Valentina Trentini\, editore si occupa da anni di raccontare il territorio attraverso libri illustrati\, realizzati con cura e grande attenzione. La collana Artifavole dedicata alle Dolomiti fa sognare e scoprire i segreti di montagne incantate\, patrimonio dell’umanità\nNATURA MISTERIOSA | 29 aprile 2026 ore 15.30 | I sensi ci aiutano a scoprire i segreti della natura presente sulle Alpi\nLASSU’ TRA LE NUVOLE | 30 aprile 2026 ore 15.30 | piccolo percorso sensoriale per conoscere dal vivo la montagna in città e costruire un museo poetico dei bambini e delle bambine.\nVIENI A SCOPRIRE L’ARTE DELLO SPORT | 1\, 2 e 3 maggio 2026\, tutto il giorno | il percorso vita ti aspetta: corri\, salta\, mettiti alla prova e sperimenta tanti esercizi di motoria in un’attività pensata per tutti e per tutte.\nCIAO! | 1 maggio 2026 ore10.00 e 3 maggio ore 15.30 | Alla scoperta della Corea del Sud. Attraverso un viaggio simulato potrai immergerti nelle tradizioni di questo affascinante Paese\nLABORATORIO DEL GUSTO | 1 maggio 2026 ore 17.00 | viaggio tra le filiere produttive legate al mondo della pastorizia e dei pascoli\nIL SUONO CHE SI TOCCA | 2 e 3 maggio ore 10.00\, 2 maggio anche alle ore 15.30 | esperienza di ascolto immersiva su pedane sensoriali\, capaci di offrire una vera e propria realtà aumentata del suono.\nMANI IN TERRA | 2 maggio ore 10.00 | trapiantiamo un fiorellino amico delle api. Dai 3 anni\nDON’T STOP THE MOTION | 2 maggio 2026\, ore 14.00 presso Harpolab\, Piazza Garzetti\, 24 | workshop di stop motion con la plastilina: crea\, modella e anima i tuoi personaggi\, un fotogramma alla volta.\nCREA LA TUA CANDELA | 3 maggio ore 10.00 | laboratorio pratico-creativo\nTAEKWONDO FREESTYLE | 3 maggio 2026 ore 16.30 | ll Taekwondo è un’arte marziale coreana che unisce tecnica\, disciplina e valori educativi. Dopo una breve presentazione sulle sue origini\, seguirà un’esibizione con musica e una lezione di prova aperta al giovane pubblico. Per tutti.\n\nContatti: \nTrento Film Festival\ntel. 0461 986120\ne-mail info@trentofestival.it \nPer tutte le informazioni vi consigliamo di consultare il nostro articolo completo: Trento Film Festival in famiglia
URL:https://www.iltrentinodeibambini.it/eventi/trento-film-festival-t4-future-family-laboratori-ed-attivita/
LOCATION:piazza Fiera Trento\, piazza Fiera\, Trento
CATEGORIES:Eventi speciali,Laboratori,Spettacoli,Visite guidate
END:VEVENT
BEGIN:VEVENT
DTSTART;TZID=Europe/Rome:20260430T153000
DTEND;TZID=Europe/Rome:20260430T163000
DTSTAMP:20260422T192603
CREATED:20260417T134837Z
LAST-MODIFIED:20260417T134837Z
UID:10023166-1777563000-1777566600@www.iltrentinodeibambini.it
SUMMARY:I 10 simboli della longevità dell'arte coreana
DESCRIPTION:HIGHLIGHT T4 FUTURE: \n\nI 10 SIMBOLI DELLA LONGEVITA’ DELL’ARTE COREANA | 25 aprile 2026 ore 16.30 e 28 e 30 aprile 2026 ore 15.30 | laboratorio artistico a cura dello Studio d’Arte Andromeda.\n\n—————— \nDal 25 aprile al 3 maggio 2026\, in occasione del Trento Film Festival\, in piazza Fiera a Trento verrà allestita una grande area destinata ai bambini ed alle loro famiglie. Ogni giorno sarà possibile partecipare a diversi laboratori\, giochi e attività\, che porteranno i più piccoli a conoscere diversi aspetti della montagna e della vita di montagna di oggi e di ieri. \nEcco un elenco degli altri laboratori : scarica QUI il programma completo di T4 Future Family \n\nDALLA MONTAGNA AL MARE | tutti i giorni\, mattina e pomeriggio | gioco per scoprire come un rifiuto abbandonato in montagna può giungere fino al mare\nNELLA BOTTEGA DEL GIOCATTOLO | tutti i giorni\, mattina e pomeriggio | i giochi di un tempo per riscoprire abilità perdute.\nCIOTOLA IN \nARGILLA | 26 aprile ore 10.00 | decora con fiori e rametti la tua ciotola in argilla\nZAPPE\, STIVALI E RASTRELLO | 27 aprile ore 16.30 | scopriamo l’arte di coltivare un orto\nAVVENTURE IN MONTAGNA PER PICCOLI ESCURSIONISTI | 29 e 30 aprile 2026 ore 15.30 | scopriamo i comportamenti corretti da tenere in montagna.\nI MESTIERI DELLA MONTAGNA | 27\, 28 e 30 aprile 2026 ore 11.00 | ascolta le storie di chi ha scelto di lavorare in montagna. Dai 6 anni.\nLABORATORIO DI CARTA | 28 aprile 2026 ore 15.30 | aboratorio che unisce creatività\, inclusione e sostenibilità. La Cooperativa Grazie alla Vita presenta il proprio percorso nella lavorazione della carta riciclata\, coinvolgendo il pubblico nella realizzazione di segnalibri e biglietti artigianali.\nHACK THE FUTURE | 28 aprile e 1 maggio 2026 ore 15.30 | Sperimenta\, costruisci\, scopri: scienza e tecnologia diventano strumenti per immaginare un futuro più sostenibile. Vieni a metterci le mani. Dai 6 anni\nDALL’IDEA ALLA LIBRERIA | 28 aprile 2026 ore 16.30 | Valentina Trentini\, editore si occupa da anni di raccontare il territorio attraverso libri illustrati\, realizzati con cura e grande attenzione. La collana Artifavole dedicata alle Dolomiti fa sognare e scoprire i segreti di montagne incantate\, patrimonio dell’umanità\nNATURA MISTERIOSA | 29 aprile 2026 ore 15.30 | I sensi ci aiutano a scoprire i segreti della natura presente sulle Alpi\nLASSU’ TRA LE NUVOLE | 30 aprile 2026 ore 15.30 | piccolo percorso sensoriale per conoscere dal vivo la montagna in città e costruire un museo poetico dei bambini e delle bambine.\nVIENI A SCOPRIRE L’ARTE DELLO SPORT | 1\, 2 e 3 maggio 2026\, tutto il giorno | il percorso vita ti aspetta: corri\, salta\, mettiti alla prova e sperimenta tanti esercizi di motoria in un’attività pensata per tutti e per tutte.\nCIAO! | 1 maggio 2026 ore10.00 e 3 maggio ore 15.30 | Alla scoperta della Corea del Sud. Attraverso un viaggio simulato potrai immergerti nelle tradizioni di questo affascinante Paese\nLABORATORIO DEL GUSTO | 1 maggio 2026 ore 17.00 | viaggio tra le filiere produttive legate al mondo della pastorizia e dei pascoli\nIL SUONO CHE SI TOCCA | 2 e 3 maggio ore 10.00\, 2 maggio anche alle ore 15.30 | esperienza di ascolto immersiva su pedane sensoriali\, capaci di offrire una vera e propria realtà aumentata del suono.\nMANI IN TERRA | 2 maggio ore 10.00 | trapiantiamo un fiorellino amico delle api. Dai 3 anni\nDON’T STOP THE MOTION | 2 maggio 2026\, ore 14.00 presso Harpolab\, Piazza Garzetti\, 24 | workshop di stop motion con la plastilina: crea\, modella e anima i tuoi personaggi\, un fotogramma alla volta.\nCREA LA TUA CANDELA | 3 maggio ore 10.00 | laboratorio pratico-creativo\nTAEKWONDO FREESTYLE | 3 maggio 2026 ore 16.30 | ll Taekwondo è un’arte marziale coreana che unisce tecnica\, disciplina e valori educativi. Dopo una breve presentazione sulle sue origini\, seguirà un’esibizione con musica e una lezione di prova aperta al giovane pubblico. Per tutti.\n\nTrento Film Festival\ntel. 0461 986120\ne-mail info@trentofestival.it \nPer tutte le informazioni vi consigliamo di consultare l’articolo completo: Trento Film Festival in famiglia \n 
URL:https://www.iltrentinodeibambini.it/eventi/i-10-simboli-della-longevita-dellarte-coreana/2026-04-30/
LOCATION:piazza Fiera Trento\, piazza Fiera\, Trento
CATEGORIES:Eventi speciali,Laboratori
END:VEVENT
BEGIN:VEVENT
DTSTART;TZID=Europe/Rome:20260430T153000
DTEND;TZID=Europe/Rome:20260430T170000
DTSTAMP:20260422T192603
CREATED:20260121T091246Z
LAST-MODIFIED:20260121T091246Z
UID:10022845-1777563000-1777568400@www.iltrentinodeibambini.it
SUMMARY:Letture - Baby Geolabs
DESCRIPTION:Storie reali sul nostro fantastico mondo\, seguite da mini attività che lasciano il segno. \n\nQuando: giovedì 9\, 16\, 23 e 30 aprile 2026 alle ore 15.30\nDove: Museo Geologico delle Dolomiti – Predazzo\nCosto: gratuito\nInfo: target 3-6 anni | attività su prenotazione QUI \n\nScoprite tutti gli appuntamenti per bambini al Museo Geologico delle Dolomiti QUI
URL:https://www.iltrentinodeibambini.it/eventi/letture-baby-geolabs-2/2026-04-30/
LOCATION:Museo Geologico delle Dolomiti\, Piazza SS. Filippo e Giacomo 1\, Predazzo 
CATEGORIES:Al Museo,Laboratori
GEO:46.3128605;11.602666
X-APPLE-STRUCTURED-LOCATION;VALUE=URI;X-ADDRESS=Museo Geologico delle Dolomiti Piazza SS. Filippo e Giacomo 1 Predazzo;X-APPLE-RADIUS=500;X-TITLE=Piazza SS. Filippo e Giacomo 1:geo:11.602666,46.3128605
END:VEVENT
BEGIN:VEVENT
DTSTART;TZID=Europe/Rome:20260430T170000
DTEND;TZID=Europe/Rome:20260430T180000
DTSTAMP:20260422T192603
CREATED:20260331T064924Z
LAST-MODIFIED:20260331T064924Z
UID:10023096-1777568400-1777572000@www.iltrentinodeibambini.it
SUMMARY:Storie di pimavera
DESCRIPTION:Lettura ad alta voce di albi illustrati per bambini e bambine dai 3 anni. \n\nQuando: giovedì 16 e 30 aprile 2026 alle ore 17.00\nDove: biblioteca comunale – sede di Clarina\nCosto: partecipazione gratuita\nInfo: 0461.889879  | biblioteca.clarina@comune.trento.it\n\nScoprite tutti gli appuntamenti per bambini e ragazzi nelle biblioteche del comune di Trento QUI.
URL:https://www.iltrentinodeibambini.it/eventi/storie-di-pimavera-2/2026-04-30/
LOCATION:Biblioteca Clarina\, Clarina Trento 
CATEGORIES:In biblioteca
GEO:46.0498013;11.1269022
END:VEVENT
END:VCALENDAR