BEGIN:VCALENDAR
VERSION:2.0
PRODID:-//Il Trentino dei Bambini - ECPv6.13.2//NONSGML v1.0//EN
CALSCALE:GREGORIAN
METHOD:PUBLISH
X-WR-CALNAME:Il Trentino dei Bambini
X-ORIGINAL-URL:https://www.iltrentinodeibambini.it
X-WR-CALDESC:Eventi per Il Trentino dei Bambini
REFRESH-INTERVAL;VALUE=DURATION:PT1H
X-Robots-Tag:noindex
X-PUBLISHED-TTL:PT1H
BEGIN:VTIMEZONE
TZID:Europe/Rome
BEGIN:DAYLIGHT
TZOFFSETFROM:+0100
TZOFFSETTO:+0200
TZNAME:CEST
DTSTART:20260329T010000
END:DAYLIGHT
BEGIN:STANDARD
TZOFFSETFROM:+0200
TZOFFSETTO:+0100
TZNAME:CET
DTSTART:20261025T010000
END:STANDARD
END:VTIMEZONE
BEGIN:VEVENT
DTSTART;VALUE=DATE:20260425
DTEND;VALUE=DATE:20260504
DTSTAMP:20260422T192602
CREATED:20260417T120827Z
LAST-MODIFIED:20260417T120827Z
UID:10023162-1777075200-1777852799@www.iltrentinodeibambini.it
SUMMARY:Trento Film Festival - T4 Future Family: laboratori ed attività
DESCRIPTION:In occasione del Trento Film Festival\, in piazza Fiera a Trento verrà allestita una grande area destinata ai bambini ed alle loro famiglie. Ogni giorno sarà possibile partecipare a diversi laboratori\, giochi e attività\, che porteranno i più piccoli a conoscere diversi aspetti della montagna e della vita di montagna di oggi e di ieri. \nEcco alcuni dei laboratori che verranno attivati negli orari di apertura del festival. Per non perderti nemmeno un appuntamento scarica QUI il programma completo di T4 Future Family \n\nL’ARTE DEGLI EQUILIBRI | sabato 25 aprile dalle 16.30 | sperimentiamo gli equilibri del circo\nDALLA MONTAGNA AL MARE | tutti i giorni\, mattina e pomeriggio | gioco per scoprire come un rifiuto abbandonato in montagna può giungere fino al mare\nNELLA BOTTEGA DEL GIOCATTOLO | tutti i giorni\, mattina e pomeriggio | i giochi di un tempo per riscoprire abilità perdute.\nCIOTOLA IN ARGILLA | 26 aprile ore 10.00 | decora con fiori e rametti la tua ciotola in argilla\nI 10 SIMBOLI DELLA LONGEVITA’ DELL’ARTE COREANA | 25 aprile 2026 ore 16.30 e 28 e 30 aprile 2026 ore 15.30 | laboratorio artistico a cura dello Studio d’Arte Andromeda.\nZAPPE\, STIVALI E RASTRELLO | 27 aprile ore 16.30 | scopriamo l’arte di coltivare un orto\nAVVENTURE IN MONTAGNA PER PICCOLI ESCURSIONISTI | 29 e 30 aprile 2026 ore 15.30 | scopriamo i comportamenti corretti da tenere in montagna.\nI MESTIERI DELLA MONTAGNA | 27\, 28 e 30 aprile 2026 ore 11.00 | ascolta le storie di chi ha scelto di lavorare in montagna. Dai 6 anni.\nLABORATORIO DI CARTA | 28 aprile 2026 ore 15.30 | aboratorio che unisce creatività\, inclusione e sostenibilità. La Cooperativa Grazie alla Vita presenta il proprio percorso nella lavorazione della carta riciclata\, coinvolgendo il pubblico nella realizzazione di segnalibri e biglietti artigianali.\nHACK THE FUTURE | 28 aprile e 1 maggio 2026 ore 15.30 | Sperimenta\, costruisci\, scopri: scienza e tecnologia diventano strumenti per immaginare un futuro più sostenibile. Vieni a metterci le mani. Dai 6 anni\nDALL’IDEA ALLA LIBRERIA | 28 aprile 2026 ore 16.30 | Valentina Trentini\, editore si occupa da anni di raccontare il territorio attraverso libri illustrati\, realizzati con cura e grande attenzione. La collana Artifavole dedicata alle Dolomiti fa sognare e scoprire i segreti di montagne incantate\, patrimonio dell’umanità\nNATURA MISTERIOSA | 29 aprile 2026 ore 15.30 | I sensi ci aiutano a scoprire i segreti della natura presente sulle Alpi\nLASSU’ TRA LE NUVOLE | 30 aprile 2026 ore 15.30 | piccolo percorso sensoriale per conoscere dal vivo la montagna in città e costruire un museo poetico dei bambini e delle bambine.\nVIENI A SCOPRIRE L’ARTE DELLO SPORT | 1\, 2 e 3 maggio 2026\, tutto il giorno | il percorso vita ti aspetta: corri\, salta\, mettiti alla prova e sperimenta tanti esercizi di motoria in un’attività pensata per tutti e per tutte.\nCIAO! | 1 maggio 2026 ore10.00 e 3 maggio ore 15.30 | Alla scoperta della Corea del Sud. Attraverso un viaggio simulato potrai immergerti nelle tradizioni di questo affascinante Paese\nLABORATORIO DEL GUSTO | 1 maggio 2026 ore 17.00 | viaggio tra le filiere produttive legate al mondo della pastorizia e dei pascoli\nIL SUONO CHE SI TOCCA | 2 e 3 maggio ore 10.00\, 2 maggio anche alle ore 15.30 | esperienza di ascolto immersiva su pedane sensoriali\, capaci di offrire una vera e propria realtà aumentata del suono.\nMANI IN TERRA | 2 maggio ore 10.00 | trapiantiamo un fiorellino amico delle api. Dai 3 anni\nDON’T STOP THE MOTION | 2 maggio 2026\, ore 14.00 presso Harpolab\, Piazza Garzetti\, 24 | workshop di stop motion con la plastilina: crea\, modella e anima i tuoi personaggi\, un fotogramma alla volta.\nCREA LA TUA CANDELA | 3 maggio ore 10.00 | laboratorio pratico-creativo\nTAEKWONDO FREESTYLE | 3 maggio 2026 ore 16.30 | ll Taekwondo è un’arte marziale coreana che unisce tecnica\, disciplina e valori educativi. Dopo una breve presentazione sulle sue origini\, seguirà un’esibizione con musica e una lezione di prova aperta al giovane pubblico. Per tutti.\n\nContatti: \nTrento Film Festival\ntel. 0461 986120\ne-mail info@trentofestival.it \nPer tutte le informazioni vi consigliamo di consultare il nostro articolo completo: Trento Film Festival in famiglia
URL:https://www.iltrentinodeibambini.it/eventi/trento-film-festival-t4-future-family-laboratori-ed-attivita/
LOCATION:piazza Fiera Trento\, piazza Fiera\, Trento
CATEGORIES:Eventi speciali,Laboratori,Spettacoli,Visite guidate
END:VEVENT
BEGIN:VEVENT
DTSTART;TZID=Europe/Rome:20260501T100000
DTEND;TZID=Europe/Rome:20260501T113000
DTSTAMP:20260422T192602
CREATED:20260417T135904Z
LAST-MODIFIED:20260417T135904Z
UID:10023172-1777629600-1777635000@www.iltrentinodeibambini.it
SUMMARY:Ciao!
DESCRIPTION:HIGHLIGHT T4 FUTURE: \n\nCIAO! | 1 maggio 2026 ore 10.00 e 3 maggio ore 15.30 | Alla scoperta della Corea del Sud. Attraverso un viaggio simulato potrai immergerti nelle tradizioni di questo affascinante Paese\n\n—————— \nDal 25 aprile al 3 maggio 2026\, in occasione del Trento Film Festival\, in piazza Fiera a Trento verrà allestita una grande area destinata ai bambini ed alle loro famiglie. Ogni giorno sarà possibile partecipare a diversi laboratori\, giochi e attività\, che porteranno i più piccoli a conoscere diversi aspetti della montagna e della vita di montagna di oggi e di ieri. \nEcco un elenco degli altri laboratori : scarica QUI il programma completo di T4 Future Family \n\nDALLA MONTAGNA AL MARE | tutti i giorni\, mattina e pomeriggio | gioco per scoprire come un rifiuto abbandonato in montagna può giungere fino al mare\nNELLA BOTTEGA DEL GIOCATTOLO | tutti i giorni\, mattina e pomeriggio | i giochi di un tempo per riscoprire abilità perdute.\nI 10 SIMBOLI DELLA LONGEVITA’ DELL’ARTE COREANA | 25 aprile 2026 ore 16.30 e 28 e 30 aprile 2026 ore 15.30 | laboratorio artistico a cura dello Studio d’Arte Andromeda.\nCIOTOLA IN ARGILLA | 26 aprile ore 10.00 | decora con fiori e rametti la tua ciotola in argilla\nZAPPE\, STIVALI E RASTRELLO | 27 aprile ore 16.30 | scopriamo l’arte di coltivare un orto\nAVVENTURE IN MONTAGNA PER PICCOLI ESCURSIONISTI | 29 e 30 aprile 2026 ore 15.30 | scopriamo i comportamenti corretti da tenere in montagna.\nI MESTIERI DELLA MONTAGNA | 27\, 28 e 30 aprile 2026 ore 11.00 | ascolta le storie di chi ha scelto di lavorare in montagna. Dai 6 anni.\nHACK THE FUTURE | 28 aprile e 1 maggio 2026 ore 15.30 | Sperimenta\, costruisci\, scopri: scienza e tecnologia diventano strumenti per immaginare un futuro più sostenibile. Vieni a metterci le mani. Dai 6 anni\nLABORATORIO DI CARTA | 28 aprile 2026 ore 15.30 | laboratorio che unisce creatività\, inclusione e sostenibilità. La Cooperativa Grazie alla Vita presenta il proprio percorso nella lavorazione della carta riciclata\, coinvolgendo il pubblico nella realizzazione di segnalibri e biglietti artigianali.\nDALL’IDEA ALLA LIBRERIA | 28 aprile 2026 ore 16.30 | Valentina Trentini\, editore si occupa da anni di raccontare il territorio attraverso libri illustrati\, realizzati con cura e grande attenzione. La collana Artifavole dedicata alle Dolomiti fa sognare e scoprire i segreti di montagne incantate\, patrimonio dell’umanità\nNATURA MISTERIOSA | 29 aprile 2026 ore 15.30 | I sensi ci aiutano a scoprire i segreti della natura presente sulle Alpi\nLASSU’ TRA LE NUVOLE | 30 aprile 2026 ore 15.30 | piccolo percorso sensoriale per conoscere dal vivo la montagna in città e costruire un museo poetico dei bambini e delle bambine.\nVIENI A SCOPRIRE L’ARTE DELLO SPORT | 1\, 2 e 3 maggio 2026\, tutto il giorno | il percorso vita ti aspetta: corri\, salta\, mettiti alla prova e sperimenta tanti esercizi di motoria in un’attività pensata per tutti e per tutte.\nLABORATORIO DEL GUSTO | 1 maggio 2026 ore 17.00 | viaggio tra le filiere produttive legate al mondo della pastorizia e dei pascoli\nIL SUONO CHE SI TOCCA | 2 e 3 maggio ore 10.00\, 2 maggio anche alle ore 15.30 | esperienza di ascolto immersiva su pedane sensoriali\, capaci di offrire una vera e propria realtà aumentata del suono.\nMANI IN TERRA | 2 maggio ore 10.00 | trapiantiamo un fiorellino amico delle api. Dai 3 anni\nDON’T STOP THE MOTION | 2 maggio 2026\, ore 14.00 presso Harpolab\, Piazza Garzetti\, 24 | workshop di stop motion con la plastilina: crea\, modella e anima i tuoi personaggi\, un fotogramma alla volta.\nCREA LA TUA CANDELA | 3 maggio ore 10.00 | laboratorio pratico-creativo\nTAEKWONDO FREESTYLE | 3 maggio 2026 ore 16.30 | ll Taekwondo è un’arte marziale coreana che unisce tecnica\, disciplina e valori educativi. Dopo una breve presentazione sulle sue origini\, seguirà un’esibizione con musica e una lezione di prova aperta al giovane pubblico. Per tutti.\n\nTrento Film Festival\ntel. 0461 986120\ne-mail info@trentofestival.it \nPer tutte le informazioni vi consigliamo di consultare l’articolo completo: Trento Film Festival in famiglia
URL:https://www.iltrentinodeibambini.it/eventi/ciao/2026-05-01/
LOCATION:piazza Fiera Trento\, piazza Fiera\, Trento
CATEGORIES:Eventi speciali
END:VEVENT
BEGIN:VEVENT
DTSTART;TZID=Europe/Rome:20260501T100000
DTEND;TZID=Europe/Rome:20260501T180000
DTSTAMP:20260422T192602
CREATED:20260414T075141Z
LAST-MODIFIED:20260414T075141Z
UID:10023135-1777629600-1777658400@www.iltrentinodeibambini.it
SUMMARY:ORTOidea
DESCRIPTION:Il Parco Tre Castagni di Pergine Valsugana\, dal 24 al 26 aprile e dall’1 al 3 maggio 2026\, accoglierà la prima edizione di ORTOidea. Una nuova manifestazione dedicata al mondo dell’orto\, della coltivazione sostenibile e della cura del verde. Ci sarà un ricco programma di attività anche per bambini e famiglie\, incontri e allestimenti tematici. \nEventi per bambini venerdì 1 maggio: \n\nalle ore 10.00 divertente gioco sulle piante commestibili\nalle ore 11.00 crea la tua candela con la cera d’api\nalle ore 13.00 e alle 15.00 laboratorio itinerante alla scoperta degli insetti\nalle ore 14.00 e alle 17.00 baby dance\nalle ore 14.30 e alle 16.30 laboratori a tema\ncaccia al tesoro (ciclo continuo)\nricerca delle pepite d’oro (ciclo continuo)\nlaboratorio di pittura (ciclo continuo)\norti creativi (ciclo continuo)\nfattoria degli animali (ciclo continuo)\nlaboratori di disegno (ciclo continuo)\n\nScoprite le altre giornate di ORTOidea QUI.
URL:https://www.iltrentinodeibambini.it/eventi/ortoidea-4/
LOCATION:Parco Tre Castagni\, Pergine Valsugana
CATEGORIES:Al parco,Eventi speciali,Laboratori
GEO:46.06174;11.2369603
END:VEVENT
BEGIN:VEVENT
DTSTART;TZID=Europe/Rome:20260501T100000
DTEND;TZID=Europe/Rome:20260501T180000
DTSTAMP:20260422T192602
CREATED:20260417T135552Z
LAST-MODIFIED:20260417T135552Z
UID:10023169-1777629600-1777658400@www.iltrentinodeibambini.it
SUMMARY:Vieni a scoprire l'arte dello sport
DESCRIPTION:HIGHLIGHT T4 FUTURE: \n\nVIENI A SCOPRIRE L’ARTE DELLO SPORT | 1\, 2 e 3 maggio 2026\, tutto il giorno | il percorso vita ti aspetta: corri\, salta\, mettiti alla prova e sperimenta tanti esercizi di motoria in un’attività pensata per tutti e per tutte.\n\n—————— \nDal 25 aprile al 3 maggio 2026\, in occasione del Trento Film Festival\, in piazza Fiera a Trento verrà allestita una grande area destinata ai bambini ed alle loro famiglie. Ogni giorno sarà possibile partecipare a diversi laboratori\, giochi e attività\, che porteranno i più piccoli a conoscere diversi aspetti della montagna e della vita di montagna di oggi e di ieri. \nEcco un elenco degli altri laboratori : scarica QUI il programma completo di T4 Future Family \n\nDALLA MONTAGNA AL MARE | tutti i giorni\, mattina e pomeriggio | gioco per scoprire come un rifiuto abbandonato in montagna può giungere fino al mare\nNELLA BOTTEGA DEL GIOCATTOLO | tutti i giorni\, mattina e pomeriggio | i giochi di un tempo per riscoprire abilità perdute.\nI 10 SIMBOLI DELLA LONGEVITA’ DELL’ARTE COREANA | 25 aprile 2026 ore 16.30 e 28 e 30 aprile 2026 ore 15.30 | laboratorio artistico a cura dello Studio d’Arte Andromeda.\nCIOTOLA IN ARGILLA | 26 aprile ore 10.00 | decora con fiori e rametti la tua ciotola in argilla\nZAPPE\, STIVALI E RASTRELLO | 27 aprile ore 16.30 | scopriamo l’arte di coltivare un orto\nAVVENTURE IN MONTAGNA PER PICCOLI ESCURSIONISTI | 29 e 30 aprile 2026 ore 15.30 | scopriamo i comportamenti corretti da tenere in montagna.\nI MESTIERI DELLA MONTAGNA | 27\, 28 e 30 aprile 2026 ore 11.00 | ascolta le storie di chi ha scelto di lavorare in montagna. Dai 6 anni.\nHACK THE FUTURE | 28 aprile e 1 maggio 2026 ore 15.30 | Sperimenta\, costruisci\, scopri: scienza e tecnologia diventano strumenti per immaginare un futuro più sostenibile. Vieni a metterci le mani. Dai 6 anni\nLABORATORIO DI CARTA | 28 aprile 2026 ore 15.30 | laboratorio che unisce creatività\, inclusione e sostenibilità. La Cooperativa Grazie alla Vita presenta il proprio percorso nella lavorazione della carta riciclata\, coinvolgendo il pubblico nella realizzazione di segnalibri e biglietti artigianali.\nDALL’IDEA ALLA LIBRERIA | 28 aprile 2026 ore 16.30 | Valentina Trentini\, editore si occupa da anni di raccontare il territorio attraverso libri illustrati\, realizzati con cura e grande attenzione. La collana Artifavole dedicata alle Dolomiti fa sognare e scoprire i segreti di montagne incantate\, patrimonio dell’umanità\nNATURA MISTERIOSA | 29 aprile 2026 ore 15.30 | I sensi ci aiutano a scoprire i segreti della natura presente sulle Alpi\nLASSU’ TRA LE NUVOLE | 30 aprile 2026 ore 15.30 | piccolo percorso sensoriale per conoscere dal vivo la montagna in città e costruire un museo poetico dei bambini e delle bambine.\nCIAO! | 1 maggio 2026 ore10.00 e 3 maggio ore 15.30 | Alla scoperta della Corea del Sud. Attraverso un viaggio simulato potrai immergerti nelle tradizioni di questo affascinante Paese\nLABORATORIO DEL GUSTO | 1 maggio 2026 ore 17.00 | viaggio tra le filiere produttive legate al mondo della pastorizia e dei pascoli\nIL SUONO CHE SI TOCCA | 2 e 3 maggio ore 10.00\, 2 maggio anche alle ore 15.30 | esperienza di ascolto immersiva su pedane sensoriali\, capaci di offrire una vera e propria realtà aumentata del suono.\nMANI IN TERRA | 2 maggio ore 10.00 | trapiantiamo un fiorellino amico delle api. Dai 3 anni\nDON’T STOP THE MOTION | 2 maggio 2026\, ore 14.00 presso Harpolab\, Piazza Garzetti\, 24 | workshop di stop motion con la plastilina: crea\, modella e anima i tuoi personaggi\, un fotogramma alla volta.\nCREA LA TUA CANDELA | 3 maggio ore 10.00 | laboratorio pratico-creativo\nTAEKWONDO FREESTYLE | 3 maggio 2026 ore 16.30 | ll Taekwondo è un’arte marziale coreana che unisce tecnica\, disciplina e valori educativi. Dopo una breve presentazione sulle sue origini\, seguirà un’esibizione con musica e una lezione di prova aperta al giovane pubblico. Per tutti.\n\nTrento Film Festival\ntel. 0461 986120\ne-mail info@trentofestival.it \nPer tutte le informazioni vi consigliamo di consultare l’articolo completo: Trento Film Festival in famiglia
URL:https://www.iltrentinodeibambini.it/eventi/vieni-a-scoprire-larte-dello-sport/2026-05-01/
LOCATION:piazza Fiera Trento\, piazza Fiera\, Trento
CATEGORIES:Eventi speciali
END:VEVENT
BEGIN:VEVENT
DTSTART;TZID=Europe/Rome:20260501T110000
DTEND;TZID=Europe/Rome:20260501T183000
DTSTAMP:20260422T192602
CREATED:20260417T114548Z
LAST-MODIFIED:20260417T114548Z
UID:10023160-1777633200-1777660200@www.iltrentinodeibambini.it
SUMMARY:Alla scoperta del mondo degli alpaca
DESCRIPTION:In occasione del Trento Film Festival e T4 Future\, venerdì 1 maggio 2026  in Piazza Fiera a Trento\, nei seguenti orari: \n\n11.00-12.30\n15.30-16.30\n17.30-18.30\n\nvieni alla scoperta del mondo degli alpaca: entra nel recinto e conosci da vicino questi animali\, scopri la lavorazione della lana e le attività legate all’allevamento di questi morbidi e dolcissimi animali.A cura di Allevamento Silpaca. \nContatto: \nTrento Film Festival\ntel. 0461 986120\ne-mail info@trentofestival.it \nClicca e scopri tutti gli appuntamenti del Trento Film Festival in famiglia \nDomenica 3 maggio 2026 alle ore 10.00 ed alle ore 14.00 | Story trekking: Il Trentino a passo di Alpaca |  Trekking con gli alpaca al Lago di Santa Colomba (Civezzano – TN) : un cammino a passo lento per scoprire le meraviglie del territorio e il mondo degli alpaca | Non adatta ai passeggini; cani non ammessi | Attività a numero chiuso su prenotazione dal 10 aprile QUI.
URL:https://www.iltrentinodeibambini.it/eventi/alla-scoperta-del-mondo-degli-alpaca/
LOCATION:piazza Fiera Trento\, piazza Fiera\, Trento
CATEGORIES:Al parco,Eventi speciali,In fattoria,Visite guidate
END:VEVENT
BEGIN:VEVENT
DTSTART;TZID=Europe/Rome:20260501T113000
DTEND;TZID=Europe/Rome:20260501T170000
DTSTAMP:20260422T192602
CREATED:20260415T124450Z
LAST-MODIFIED:20260415T124517Z
UID:10023143-1777635000-1777654800@www.iltrentinodeibambini.it
SUMMARY:Demonstration
DESCRIPTION:Le coppie babult (adulta/o + bambina/o)\, accompagnate dall’operatrice/ore nello spazio Maxi Ooh!\, vivranno un’avventura speciale. Nel mese di aprile il tema è “Rughina la tartaruga marina” e a maggio “Versi in fuga“. \n\nQuando: ogni sabato e domenica e venerdì 1 maggio alle 11.30 e alle 16 | venerdì 24 aprile 2026 alle 11.30 e alle 15\nDove: Maxi Ooh! – Muse\nCosto: bambino/a + adulto/a 2 euro | 1\,5 euro con MyMuse Membership\nInfo: target 3-5 anni | prenotazione consigliata al numero 0461 270391\n\nScoprite altri appuntamenti per i più piccoli nello spazio Maxi Ooh! QUI. \n 
URL:https://www.iltrentinodeibambini.it/eventi/demonstration/2026-05-01/
LOCATION:MUSE\, Italia
CATEGORIES:Al Museo,Eventi speciali
GEO:46.0700915;11.1197626
END:VEVENT
BEGIN:VEVENT
DTSTART;TZID=Europe/Rome:20260501T143000
DTEND;TZID=Europe/Rome:20260501T183000
DTSTAMP:20260422T192602
CREATED:20250923T150526Z
LAST-MODIFIED:20250923T150526Z
UID:10021262-1777645800-1777660200@www.iltrentinodeibambini.it
SUMMARY:Spazio giochi da tavolo
DESCRIPTION:Uno spazio dedicato ai giochi da tavolo per bambini da 3 a 6 anni. \n\nQuando: ogni primo venerdì del mese da settembre 2025 a giugno 2026 dalle ore 14.30\nDove: biblioteca dei Ragazzi – palazzina Liberty\nCosto: partecipazione libera e gratuita\nInfo: tel. 0461 889559 | email: biblioteca.ragazzi@comune.trento.it\n\nScoprite tutti gli eventi per bambini e ragazzi nelle biblioteche comunali di Trento QUI.
URL:https://www.iltrentinodeibambini.it/eventi/spazio-giochi-da-tavolo-5/2026-05-01/
LOCATION:palazzina Liberty\, Piazza Dante\, Trento
CATEGORIES:In biblioteca
END:VEVENT
BEGIN:VEVENT
DTSTART;TZID=Europe/Rome:20260501T153000
DTEND;TZID=Europe/Rome:20260501T170000
DTSTAMP:20260422T192602
CREATED:20260417T135228Z
LAST-MODIFIED:20260417T135228Z
UID:10023168-1777649400-1777654800@www.iltrentinodeibambini.it
SUMMARY:Hack the future
DESCRIPTION:HIGHLIGHT T4 FUTURE: \n\nHACK THE FUTURE | 28 aprile e 1 maggio 2026 ore 15.30 | Sperimenta\, costruisci\, scopri: scienza e tecnologia diventano strumenti per immaginare un futuro più sostenibile. Vieni a metterci le mani. Dai 6 anni\n\n—————— \nDal 25 aprile al 3 maggio 2026\, in occasione del Trento Film Festival\, in piazza Fiera a Trento verrà allestita una grande area destinata ai bambini ed alle loro famiglie. Ogni giorno sarà possibile partecipare a diversi laboratori\, giochi e attività\, che porteranno i più piccoli a conoscere diversi aspetti della montagna e della vita di montagna di oggi e di ieri. \nEcco un elenco degli altri laboratori : scarica QUI il programma completo di T4 Future Family \n\nDALLA MONTAGNA AL MARE | tutti i giorni\, mattina e pomeriggio | gioco per scoprire come un rifiuto abbandonato in montagna può giungere fino al mare\nNELLA BOTTEGA DEL GIOCATTOLO | tutti i giorni\, mattina e pomeriggio | i giochi di un tempo per riscoprire abilità perdute.\nI 10 SIMBOLI DELLA LONGEVITA’ DELL’ARTE COREANA | 25 aprile 2026 ore 16.30 e 28 e 30 aprile 2026 ore 15.30 | laboratorio artistico a cura dello Studio d’Arte Andromeda.\nCIOTOLA IN ARGILLA | 26 aprile ore 10.00 | decora con fiori e rametti la tua ciotola in argilla\nZAPPE\, STIVALI E RASTRELLO | 27 aprile ore 16.30 | scopriamo l’arte di coltivare un orto\nAVVENTURE IN MONTAGNA PER PICCOLI ESCURSIONISTI | 29 e 30 aprile 2026 ore 15.30 | scopriamo i comportamenti corretti da tenere in montagna.\nI MESTIERI DELLA MONTAGNA | 27\, 28 e 30 aprile 2026 ore 11.00 | ascolta le storie di chi ha scelto di lavorare in montagna. Dai 6 anni.\nLABORATORIO DI CARTA | 28 aprile 2026 ore 15.30 | laboratorio che unisce creatività\, inclusione e sostenibilità. La Cooperativa Grazie alla Vita presenta il proprio percorso nella lavorazione della carta riciclata\, coinvolgendo il pubblico nella realizzazione di segnalibri e biglietti artigianali.\nDALL’IDEA ALLA LIBRERIA | 28 aprile 2026 ore 16.30 | Valentina Trentini\, editore si occupa da anni di raccontare il territorio attraverso libri illustrati\, realizzati con cura e grande attenzione. La collana Artifavole dedicata alle Dolomiti fa sognare e scoprire i segreti di montagne incantate\, patrimonio dell’umanità\nNATURA MISTERIOSA | 29 aprile 2026 ore 15.30 | I sensi ci aiutano a scoprire i segreti della natura presente sulle Alpi\nLASSU’ TRA LE NUVOLE | 30 aprile 2026 ore 15.30 | piccolo percorso sensoriale per conoscere dal vivo la montagna in città e costruire un museo poetico dei bambini e delle bambine.\nVIENI A SCOPRIRE L’ARTE DELLO SPORT | 1\, 2 e 3 maggio 2026\, tutto il giorno | il percorso vita ti aspetta: corri\, salta\, mettiti alla prova e sperimenta tanti esercizi di motoria in un’attività pensata per tutti e per tutte.\nCIAO! | 1 maggio 2026 ore10.00 e 3 maggio ore 15.30 | Alla scoperta della Corea del Sud. Attraverso un viaggio simulato potrai immergerti nelle tradizioni di questo affascinante Paese\nLABORATORIO DEL GUSTO | 1 maggio 2026 ore 17.00 | viaggio tra le filiere produttive legate al mondo della pastorizia e dei pascoli\nIL SUONO CHE SI TOCCA | 2 e 3 maggio ore 10.00\, 2 maggio anche alle ore 15.30 | esperienza di ascolto immersiva su pedane sensoriali\, capaci di offrire una vera e propria realtà aumentata del suono.\nMANI IN TERRA | 2 maggio ore 10.00 | trapiantiamo un fiorellino amico delle api. Dai 3 anni\nDON’T STOP THE MOTION | 2 maggio 2026\, ore 14.00 presso Harpolab\, Piazza Garzetti\, 24 | workshop di stop motion con la plastilina: crea\, modella e anima i tuoi personaggi\, un fotogramma alla volta.\nCREA LA TUA CANDELA | 3 maggio ore 10.00 | laboratorio pratico-creativo\nTAEKWONDO FREESTYLE | 3 maggio 2026 ore 16.30 | ll Taekwondo è un’arte marziale coreana che unisce tecnica\, disciplina e valori educativi. Dopo una breve presentazione sulle sue origini\, seguirà un’esibizione con musica e una lezione di prova aperta al giovane pubblico. Per tutti.\n\nTrento Film Festival\ntel. 0461 986120\ne-mail info@trentofestival.it \nPer tutte le informazioni vi consigliamo di consultare l’articolo completo: Trento Film Festival in famiglia
URL:https://www.iltrentinodeibambini.it/eventi/hack-the-future/2026-05-01/
LOCATION:piazza Fiera Trento\, piazza Fiera\, Trento
CATEGORIES:Eventi speciali,Laboratori
END:VEVENT
BEGIN:VEVENT
DTSTART;TZID=Europe/Rome:20260501T170000
DTEND;TZID=Europe/Rome:20260501T183000
DTSTAMP:20260422T192602
CREATED:20260121T085122Z
LAST-MODIFIED:20260121T085122Z
UID:10022840-1777654800-1777660200@www.iltrentinodeibambini.it
SUMMARY:Viaggio alla scoperta delle Dolomiti
DESCRIPTION:Visita guidata per conoscere cosa rende queste montagne semplicemente… uniche! \n\nQuando: 6\, 13\, 20 e 27 febbraio | 6\, 13\, 20 e 27 marzo 3 aprile e 1 maggio 2026 alle ore 17.00\nDove: Museo Geologico delle Dolomiti\nCosto: 3 euro oltre il biglietto d’ingresso\nInfo: target 10+ | attività su prenotazione QUI \n\nScoprite tutti gli appuntamenti per bambini e famiglie al Museo Geologico delle Dolomiti QUI.
URL:https://www.iltrentinodeibambini.it/eventi/viaggio-alla-scoperta-delle-dolomiti-2/2026-05-01/
LOCATION:Museo Geologico delle Dolomiti\, Piazza SS. Filippo e Giacomo 1\, Predazzo 
CATEGORIES:Al Museo,Visite guidate
GEO:46.3128605;11.602666
X-APPLE-STRUCTURED-LOCATION;VALUE=URI;X-ADDRESS=Museo Geologico delle Dolomiti Piazza SS. Filippo e Giacomo 1 Predazzo;X-APPLE-RADIUS=500;X-TITLE=Piazza SS. Filippo e Giacomo 1:geo:11.602666,46.3128605
END:VEVENT
END:VCALENDAR