BEGIN:VCALENDAR
VERSION:2.0
PRODID:-//Il Trentino dei Bambini - ECPv6.13.2//NONSGML v1.0//EN
CALSCALE:GREGORIAN
METHOD:PUBLISH
X-WR-CALNAME:Il Trentino dei Bambini
X-ORIGINAL-URL:https://www.iltrentinodeibambini.it
X-WR-CALDESC:Eventi per Il Trentino dei Bambini
REFRESH-INTERVAL;VALUE=DURATION:PT1H
X-Robots-Tag:noindex
X-PUBLISHED-TTL:PT1H
BEGIN:VTIMEZONE
TZID:Europe/Rome
BEGIN:DAYLIGHT
TZOFFSETFROM:+0100
TZOFFSETTO:+0200
TZNAME:CEST
DTSTART:20260329T010000
END:DAYLIGHT
BEGIN:STANDARD
TZOFFSETFROM:+0200
TZOFFSETTO:+0100
TZNAME:CET
DTSTART:20261025T010000
END:STANDARD
END:VTIMEZONE
BEGIN:VEVENT
DTSTART;TZID=Europe/Rome:20260509T100000
DTEND;TZID=Europe/Rome:20260509T110000
DTSTAMP:20260422T205415
CREATED:20240107T175653Z
LAST-MODIFIED:20260121T082733Z
UID:10022824-1778320800-1778324400@www.iltrentinodeibambini.it
SUMMARY:Coccola di storia a Lavis
DESCRIPTION:Prenota la tua coccola con le nostre lettrici volontarie che leggeranno per 30 minuti storie meravigliose al tuo bambino (0-6 anni) e a te! \n\nQuando: sabato 10 gennaio\, 21 febbraio\, 14 marzo\, 18 aprile e 9 maggio 2026 dalle ore 10.00\nDove: presso la biblioteca di Lavis\nCosto: attività gratuita\nInfo: tel. 0461.240066 – lavis@biblio.tn.it\n\n 
URL:https://www.iltrentinodeibambini.it/eventi/coccola-di-storia-a-lavis/2026-05-09/
LOCATION:Biblioteca di Lavis – Terre d’Adige\, Via degli Alpini\, 6\, Lavis\, 38015\, Italia
CATEGORIES:In biblioteca
GEO:46.16805;11.11061
X-APPLE-STRUCTURED-LOCATION;VALUE=URI;X-ADDRESS=Biblioteca di Lavis – Terre d’Adige Via degli Alpini 6 Lavis 38015 Italia;X-APPLE-RADIUS=500;X-TITLE=Via degli Alpini\, 6:geo:11.11061,46.16805
END:VEVENT
BEGIN:VEVENT
DTSTART;TZID=Europe/Rome:20260509T113000
DTEND;TZID=Europe/Rome:20260509T170000
DTSTAMP:20260422T205415
CREATED:20260415T124450Z
LAST-MODIFIED:20260415T124517Z
UID:10023146-1778326200-1778346000@www.iltrentinodeibambini.it
SUMMARY:Demonstration
DESCRIPTION:Le coppie babult (adulta/o + bambina/o)\, accompagnate dall’operatrice/ore nello spazio Maxi Ooh!\, vivranno un’avventura speciale. Nel mese di aprile il tema è “Rughina la tartaruga marina” e a maggio “Versi in fuga“. \n\nQuando: ogni sabato e domenica e venerdì 1 maggio alle 11.30 e alle 16 | venerdì 24 aprile 2026 alle 11.30 e alle 15\nDove: Maxi Ooh! – Muse\nCosto: bambino/a + adulto/a 2 euro | 1\,5 euro con MyMuse Membership\nInfo: target 3-5 anni | prenotazione consigliata al numero 0461 270391\n\nScoprite altri appuntamenti per i più piccoli nello spazio Maxi Ooh! QUI. \n 
URL:https://www.iltrentinodeibambini.it/eventi/demonstration/2026-05-09/
LOCATION:MUSE\, Italia
CATEGORIES:Al Museo,Eventi speciali
GEO:46.0700915;11.1197626
END:VEVENT
BEGIN:VEVENT
DTSTART;TZID=Europe/Rome:20260509T140000
DTEND;TZID=Europe/Rome:20260509T180000
DTSTAMP:20260422T205415
CREATED:20260421T075458Z
LAST-MODIFIED:20260421T075624Z
UID:10023177-1778335200-1778349600@www.iltrentinodeibambini.it
SUMMARY:Muse Party
DESCRIPTION:Un pomeriggio indimenticabile in famiglia tra attività e tecnologie alla scoperta dei grandi cambiamenti del 1500. Il tema di questo appuntamento è: \nCodici\, ingranaggi e nuovi mondi\nCi saranno artisti stravaganti\, laboratori creativi\, un eccentrico scienziato appassionato di erboristeria\, una rievocazione storica e molto altro! Programma completo QUI. \n\nQuando: sabato 9 maggio 2026 dalle ore 14.00 alle 19.00\nDove: Muse – Trento\nCosto: compreso nel biglietto d’ingresso\nTarget: 0-12 anni\nInfo: prenota il tuo biglietto online QUI\n\nScopri tanti altri appuntamenti per bambini e famiglie al Muse QUI.
URL:https://www.iltrentinodeibambini.it/eventi/muse-party/
LOCATION:MUSE\, Italia
CATEGORIES:Al Museo,Eventi speciali
GEO:46.0700915;11.1197626
END:VEVENT
BEGIN:VEVENT
DTSTART;TZID=Europe/Rome:20260509T143000
DTEND;TZID=Europe/Rome:20260509T163000
DTSTAMP:20260422T205415
CREATED:20260404T094219Z
LAST-MODIFIED:20260404T094219Z
UID:10023118-1778337000-1778344200@www.iltrentinodeibambini.it
SUMMARY:Schegge di pietra. Un pomeriggio preistorico
DESCRIPTION:Laboratorio per famiglie per scoprire e sperimentare l’uso e la lavorazione della selce nelle comunità preistoriche di Fiavé e realizzare un piccolo manufatto in legno e selce in occasione di Kid Pass Days. \n\nQuando: sabato 9 maggio 2026 alle ore 14.30\nDove: Parco Archeo Natura – Fiavé\nCosto: attività gratuita | ingresso al museo a pagamento\nInfo: prenotazione online QUI oppure tel. 0465 735019\n\nScoprite tutti gli eventi per bambini e famiglie di Primavera in Palafitta QUI.
URL:https://www.iltrentinodeibambini.it/eventi/schegge-di-pietra-un-pomeriggio-preistorico/
LOCATION:Parco Archeo Natura\, Fiavé\, 38075\, Italia
CATEGORIES:Al Museo,Laboratori
END:VEVENT
BEGIN:VEVENT
DTSTART;TZID=Europe/Rome:20260509T153000
DTEND;TZID=Europe/Rome:20260509T163000
DTSTAMP:20260422T205415
CREATED:20250928T183350Z
LAST-MODIFIED:20250928T183350Z
UID:10021326-1778340600-1778344200@www.iltrentinodeibambini.it
SUMMARY:Un museo da scoprire
DESCRIPTION:Ogni sabato un tema diverso per scoprire le particolarità del Museo di Scienze e Archeologia di Rovereto \nMinori accompagnati da almeno un adulto. Consigliato dai 6 anni in su. \nPrenotazione consigliata. La tariffa di partecipazione è di € 7 a persona e comprende l’ingresso al Museo di Scienze e Archeologia nella stessa giornata. Il biglietto include anche l’ingresso al Museo della Città da effettuarsi entro un anno dall’acquisto. \nPRENOTA QUI \nCALENDARIO 2025/2026 \n\nSabato 11 ottobre 2025\, ore 15.30  | Il fascino dei fossili\nSabato 8 novembre 2025\, ore 15.30 | Come gli oggetti arrivano al museo\nSabato 13 dicembre 2025\, ore 15.30 | I reperti segreti dal mondo dei vivi e dei morti\nSabato 10 gennaio 2026\, ore 15.30 | Come si sono formate le rocce\nSabato 14 febbraio 2026\, ore 15.30 | Le piante che vivono in alta quota\nSabato 14 marzo 2026\, ore 15.30 | Le missioni con equipaggio\nSabato 11 aprile 2026\, ore 15.30 | Quanto sei evoluto?\nSabato 9 maggio 2026\, ore 15.30 | Come rinasce un giardino\n\nScopri di più sulla Fondazione Museo Civico Rovereto e sul Museo di Scienze e Archeologia
URL:https://www.iltrentinodeibambini.it/eventi/un-museo-da-scoprire-2/2026-05-09/
LOCATION:Museo di Scienze e Archeologia e Planetario\, Borgo Santa Caterina\, 41\, Rovereto\, 38068\, Italia
CATEGORIES:Al Museo,Visite guidate
END:VEVENT
BEGIN:VEVENT
DTSTART;TZID=Europe/Rome:20260509T160000
DTEND;TZID=Europe/Rome:20260509T170000
DTSTAMP:20260422T205415
CREATED:20260417T072152Z
LAST-MODIFIED:20260417T072152Z
UID:10023159-1778342400-1778346000@www.iltrentinodeibambini.it
SUMMARY:Ti voglio bene mamma!
DESCRIPTION:Laboratorio per bambini dai 3 agli 11 anni (essere accompagnati da un adulto che farà l’attività con loro) per preparare dolcetti speciali da regalare alla festa della mamma. \n\nQuando: sabato 9 maggio 2026 alle ore 16.00\nDove: sala centro polifunzionale Pieve Tesino\nInfo: prenotazione obbligatoria tel. 347.6075615
URL:https://www.iltrentinodeibambini.it/eventi/ti-voglio-bene-mamma/
LOCATION:Pieve Tesino\, Pieve Tesino
GEO:46.2094504;11.5650253
END:VEVENT
BEGIN:VEVENT
DTSTART;TZID=Europe/Rome:20260509T160000
DTEND;TZID=Europe/Rome:20260509T173000
DTSTAMP:20260422T205415
CREATED:20260316T154200Z
LAST-MODIFIED:20260316T155659Z
UID:10023054-1778342400-1778347800@www.iltrentinodeibambini.it
SUMMARY:A tutta cupola KIDS
DESCRIPTION:Grazie al nuovo proiettore digitale\, il Planetario del Museo di Scienze e Archeologia diventa un piccolo cinema immersivo con proiezioni fulldome\, a tutta cupola\, per avere un’esperienza ancora più coinvolgente. I filmati\, con titoli che variano settimanalmente\, hanno una durata compresa tra i 20 ed i 30 minuti. \n\nProssimi appuntamenti 2026: \n\nsabato 28 marzo: La Regata spaziale\ngiovedì 2 aprile (speciale Pasqua) – Persi in Mezzo al Mare e La Forgia di Artemide\nvenerdì 3 aprile (speciale Pasqua) – Persi in Mezzo al Mare e La Forgia di Artemide\nlunedì 6 aprile (speciale Pasqua) – Persi in Mezzo al Mare e La Forgia di Artemide\nmartedì 7 aprile (speciale Pasqua) – Persi in Mezzo al Mare e La Forgia di Artemide\nmercoledì 8 aprile (speciale Pasqua) – Persi in Mezzo al Mare e La Forgia di Artemide\nsabato 11 aprile – Persi in Mezzo al Mare e La Forgia di Artemide\nsabato 25 aprile – Persi in Mezzo al Mare e La Forgia di Artemide\nsabato 9 maggio – Persi in Mezzo al Mare e La Forgia di Artemide\nsabato 23 maggio – Persi in Mezzo al Mare e La Forgia di Artemide\n\nORARIO:  alle ore 16.00 e alle 17.00 \nDOVE: Planetario del Museo di Scienze e Archeologia di Rovereto\nCOSTO: 3 euro a persona. Per gli appuntamenti KIDS viene richiesta la presenza di un adulto accompagnatore.\nPRENOTAZIONE:  Posti limitati\, prenotazione obbligatoria entro le 17.00 del giorno precedente l’inizio dell’attività.  FILMATI A TUTTA CUPOLA KIDS (consigliati per bambini e bambine dai 6 agli 11 anni): prenota QUI \n\nInfo: 0464 452800 – museo@fondazionemcr.it \nClicca per conoscere meglio il Super Planetario Digitale a Rovereto \nConosci il Museo di Scienze e Archeologia di Rovereto? Scopri di più in Fondazione Museo Civico Rovereto
URL:https://www.iltrentinodeibambini.it/eventi/a-tutta-cupola-kids-2/2026-05-09/
LOCATION:Museo di Scienze e Archeologia e Planetario\, Borgo Santa Caterina\, 41\, Rovereto\, 38068\, Italia
CATEGORIES:Al Museo,Eventi speciali,Spettacoli
END:VEVENT
END:VCALENDAR