BEGIN:VCALENDAR
VERSION:2.0
PRODID:-//Il Trentino dei Bambini - ECPv6.13.2//NONSGML v1.0//EN
CALSCALE:GREGORIAN
METHOD:PUBLISH
X-ORIGINAL-URL:https://www.iltrentinodeibambini.it
X-WR-CALDESC:Eventi per Il Trentino dei Bambini
REFRESH-INTERVAL;VALUE=DURATION:PT1H
X-Robots-Tag:noindex
X-PUBLISHED-TTL:PT1H
BEGIN:VTIMEZONE
TZID:Europe/Rome
BEGIN:DAYLIGHT
TZOFFSETFROM:+0100
TZOFFSETTO:+0200
TZNAME:CEST
DTSTART:20260329T010000
END:DAYLIGHT
BEGIN:STANDARD
TZOFFSETFROM:+0200
TZOFFSETTO:+0100
TZNAME:CET
DTSTART:20261025T010000
END:STANDARD
END:VTIMEZONE
BEGIN:VEVENT
DTSTART;TZID=Europe/Rome:20260510T093000
DTEND;TZID=Europe/Rome:20260510T120000
DTSTAMP:20260422T205454
CREATED:20250921T121314Z
LAST-MODIFIED:20250921T121314Z
UID:10021240-1778405400-1778414400@www.iltrentinodeibambini.it
SUMMARY:Coccole: la nostra voce
DESCRIPTION:Concerti interattivi per bambini e famiglie. Attraverso l’ascolto\, il movimento e l’interazione i bambini saranno veri e propri protagonisti dell’esperienza. Tra canti e danze potranno cimentarsi nella creazione del proprio concerto\, scoprendo in autonomia la gioia della musica. \n\nQuando: domenica 10 maggio 2026 alle ore 9.30 | età: 0-3 anni | alle ore 11.00 | età: 3-7 anni\nDove: Museion – Bolzano\nCosto: adulti 8 euro | bambini 5 euro\nInfo: target indicato nell’orario dello spettacolo\n\nScopri tutti gli spettacoli per piccoli della Fondazione Haydn QUI.
URL:https://www.iltrentinodeibambini.it/eventi/coccole-la-nostra-voce-3/
LOCATION:MUSEION\, Piazza Piero Siena\, 1\, Bolzano
CATEGORIES:Spettacoli
GEO:46.4973349;11.3483884
X-APPLE-STRUCTURED-LOCATION;VALUE=URI;X-ADDRESS=MUSEION Piazza Piero Siena 1 Bolzano;X-APPLE-RADIUS=500;X-TITLE=Piazza Piero Siena\, 1:geo:11.3483884,46.4973349
END:VEVENT
BEGIN:VEVENT
DTSTART;TZID=Europe/Rome:20260510T113000
DTEND;TZID=Europe/Rome:20260510T170000
DTSTAMP:20260422T205454
CREATED:20260415T124450Z
LAST-MODIFIED:20260415T124517Z
UID:10023147-1778412600-1778432400@www.iltrentinodeibambini.it
SUMMARY:Demonstration
DESCRIPTION:Le coppie babult (adulta/o + bambina/o)\, accompagnate dall’operatrice/ore nello spazio Maxi Ooh!\, vivranno un’avventura speciale. Nel mese di aprile il tema è “Rughina la tartaruga marina” e a maggio “Versi in fuga“. \n\nQuando: ogni sabato e domenica e venerdì 1 maggio alle 11.30 e alle 16 | venerdì 24 aprile 2026 alle 11.30 e alle 15\nDove: Maxi Ooh! – Muse\nCosto: bambino/a + adulto/a 2 euro | 1\,5 euro con MyMuse Membership\nInfo: target 3-5 anni | prenotazione consigliata al numero 0461 270391\n\nScoprite altri appuntamenti per i più piccoli nello spazio Maxi Ooh! QUI. \n 
URL:https://www.iltrentinodeibambini.it/eventi/demonstration/2026-05-10/
LOCATION:MUSE\, Italia
CATEGORIES:Al Museo,Eventi speciali
GEO:46.0700915;11.1197626
END:VEVENT
BEGIN:VEVENT
DTSTART;TZID=Europe/Rome:20260510T150000
DTEND;TZID=Europe/Rome:20260510T153000
DTSTAMP:20260422T205454
CREATED:20250928T182105Z
LAST-MODIFIED:20250928T182105Z
UID:10021315-1778425200-1778427000@www.iltrentinodeibambini.it
SUMMARY:Il cielo in una stanza 3.0
DESCRIPTION:Gli esperti del Planetario della Fondazione  Museo Civico di Rovereto vi accompagneranno in un viaggio nel Cosmo\, partendo dalla Terra per esplorare il Sistema Solare\, con approfondimenti sulle missioni spaziali\, fino ad arrivare lontano verso nebulose e altri oggetti celesti\, in un susseguirsi di immagini e video spettacolari e coinvolgenti. \nAl raggiungimento del numero massimo di posti disponibili sarà attivato un secondo turno alle ore 16.30. \nTutte le domeniche alle ore 15.00 e\, se esaurito\, anche alle 16.30\nPosti limitati\, prenotazione obbligatoria entro le 17.00 del giorno precedente l’inizio dell’attività.\nLa tariffa di partecipazione è di euro 7 a persona. Biglietto QUI \nChi partecipa allo spettacolo al Planetario ha diritto a un biglietto di ingresso ridotto al museo (euro 7 + euro 5)\, acquistabile QUI \nInfo: 0464 452800 – museo@fondazionemcr.it \nConosci il Museo di Scienze e Archeologia di Rovereto? Scopri di più QUI
URL:https://www.iltrentinodeibambini.it/eventi/il-cielo-in-una-stanza-3-0-3/2026-05-10/
LOCATION:Museo di Scienze e Archeologia e Planetario\, Borgo Santa Caterina\, 41\, Rovereto\, 38068\, Italia
CATEGORIES:Al Museo,Spettacoli
END:VEVENT
END:VCALENDAR