BEGIN:VCALENDAR
VERSION:2.0
PRODID:-//Il Trentino dei Bambini - ECPv6.13.2//NONSGML v1.0//EN
CALSCALE:GREGORIAN
METHOD:PUBLISH
X-ORIGINAL-URL:https://www.iltrentinodeibambini.it
X-WR-CALDESC:Eventi per Il Trentino dei Bambini
REFRESH-INTERVAL;VALUE=DURATION:PT1H
X-Robots-Tag:noindex
X-PUBLISHED-TTL:PT1H
BEGIN:VTIMEZONE
TZID:Europe/Rome
BEGIN:DAYLIGHT
TZOFFSETFROM:+0100
TZOFFSETTO:+0200
TZNAME:CEST
DTSTART:20260329T010000
END:DAYLIGHT
BEGIN:STANDARD
TZOFFSETFROM:+0200
TZOFFSETTO:+0100
TZNAME:CET
DTSTART:20261025T010000
END:STANDARD
END:VTIMEZONE
BEGIN:VEVENT
DTSTART;TZID=Europe/Rome:20260530T113000
DTEND;TZID=Europe/Rome:20260530T170000
DTSTAMP:20260422T222013
CREATED:20260415T124450Z
LAST-MODIFIED:20260415T124517Z
UID:10023152-1780140600-1780160400@www.iltrentinodeibambini.it
SUMMARY:Demonstration
DESCRIPTION:Le coppie babult (adulta/o + bambina/o)\, accompagnate dall’operatrice/ore nello spazio Maxi Ooh!\, vivranno un’avventura speciale. Nel mese di aprile il tema è “Rughina la tartaruga marina” e a maggio “Versi in fuga“. \n\nQuando: ogni sabato e domenica e venerdì 1 maggio alle 11.30 e alle 16 | venerdì 24 aprile 2026 alle 11.30 e alle 15\nDove: Maxi Ooh! – Muse\nCosto: bambino/a + adulto/a 2 euro | 1\,5 euro con MyMuse Membership\nInfo: target 3-5 anni | prenotazione consigliata al numero 0461 270391\n\nScoprite altri appuntamenti per i più piccoli nello spazio Maxi Ooh! QUI. \n 
URL:https://www.iltrentinodeibambini.it/eventi/demonstration/2026-05-30/
LOCATION:MUSE\, Italia
CATEGORIES:Al Museo,Eventi speciali
GEO:46.0700915;11.1197626
END:VEVENT
END:VCALENDAR