BEGIN:VCALENDAR
VERSION:2.0
PRODID:-//Il Trentino dei Bambini - ECPv6.13.2//NONSGML v1.0//EN
CALSCALE:GREGORIAN
METHOD:PUBLISH
X-ORIGINAL-URL:https://www.iltrentinodeibambini.it
X-WR-CALDESC:Eventi per Il Trentino dei Bambini
REFRESH-INTERVAL;VALUE=DURATION:PT1H
X-Robots-Tag:noindex
X-PUBLISHED-TTL:PT1H
BEGIN:VTIMEZONE
TZID:Europe/Rome
BEGIN:DAYLIGHT
TZOFFSETFROM:+0100
TZOFFSETTO:+0200
TZNAME:CEST
DTSTART:20260329T010000
END:DAYLIGHT
BEGIN:STANDARD
TZOFFSETFROM:+0200
TZOFFSETTO:+0100
TZNAME:CET
DTSTART:20261025T010000
END:STANDARD
END:VTIMEZONE
BEGIN:VEVENT
DTSTART;TZID=Europe/Rome:20260603T163000
DTEND;TZID=Europe/Rome:20260603T180000
DTSTAMP:20260422T234446
CREATED:20260202T133733Z
LAST-MODIFIED:20260202T133733Z
UID:10022876-1780504200-1780509600@www.iltrentinodeibambini.it
SUMMARY:Club dei giovani lettori
DESCRIPTION:Ti piace leggere? Hai tra i 10 e i 12 anni? Allora non puoi mancare! \n\nQuando: ogni primo mercoledì del mese dal 4 febbraio al 3 giugno 2026 alle ore 16.45\nDove: biblioteca comunale – sede di Ravina\nCosto: partecipazione gratuita\nInfo: tel. 0461.889786 | biblioteca.ravina@comune.trento.it\n\nLe date possono subire delle modifiche tenetevi aggiornati consultando l’agenda sul sito della biblioteca e la pagina Facebook. Per scoprire tutti gli eventi per bambini e ragazzi nelle biblioteche comunali cliccate QUI.
URL:https://www.iltrentinodeibambini.it/eventi/club-dei-giovani-lettori/2026-06-03/
LOCATION:Biblioteca di Ravina\, Ravina di Trento 
CATEGORIES:In biblioteca
GEO:46.0378903;11.1074085
END:VEVENT
END:VCALENDAR