BEGIN:VCALENDAR
VERSION:2.0
PRODID:-//Il Trentino dei Bambini - ECPv6.13.2//NONSGML v1.0//EN
CALSCALE:GREGORIAN
METHOD:PUBLISH
X-ORIGINAL-URL:https://www.iltrentinodeibambini.it
X-WR-CALDESC:Eventi per Il Trentino dei Bambini
REFRESH-INTERVAL;VALUE=DURATION:PT1H
X-Robots-Tag:noindex
X-PUBLISHED-TTL:PT1H
BEGIN:VTIMEZONE
TZID:Europe/Rome
BEGIN:DAYLIGHT
TZOFFSETFROM:+0100
TZOFFSETTO:+0200
TZNAME:CEST
DTSTART:20260329T010000
END:DAYLIGHT
BEGIN:STANDARD
TZOFFSETFROM:+0200
TZOFFSETTO:+0100
TZNAME:CET
DTSTART:20261025T010000
END:STANDARD
END:VTIMEZONE
BEGIN:VEVENT
DTSTART;TZID=Europe/Rome:20260605T143000
DTEND;TZID=Europe/Rome:20260605T183000
DTSTAMP:20260422T234436
CREATED:20250923T150526Z
LAST-MODIFIED:20250923T150526Z
UID:10021263-1780669800-1780684200@www.iltrentinodeibambini.it
SUMMARY:Spazio giochi da tavolo
DESCRIPTION:Uno spazio dedicato ai giochi da tavolo per bambini da 3 a 6 anni. \n\nQuando: ogni primo venerdì del mese da settembre 2025 a giugno 2026 dalle ore 14.30\nDove: biblioteca dei Ragazzi – palazzina Liberty\nCosto: partecipazione libera e gratuita\nInfo: tel. 0461 889559 | email: biblioteca.ragazzi@comune.trento.it\n\nScoprite tutti gli eventi per bambini e ragazzi nelle biblioteche comunali di Trento QUI.
URL:https://www.iltrentinodeibambini.it/eventi/spazio-giochi-da-tavolo-5/2026-06-05/
LOCATION:palazzina Liberty\, Piazza Dante\, Trento
CATEGORIES:In biblioteca
END:VEVENT
BEGIN:VEVENT
DTSTART;TZID=Europe/Rome:20260605T170000
DTEND;TZID=Europe/Rome:20260605T180000
DTSTAMP:20260422T234436
CREATED:20250821T143616Z
LAST-MODIFIED:20250821T143616Z
UID:10020992-1780678800-1780682400@www.iltrentinodeibambini.it
SUMMARY:Divoratori di libri
DESCRIPTION:Gruppo di lettura per ragazzi e ragazze di età tra gli 11 e i 14 anni. Ciascun partecipante porta in gruppo la propria esperienza di lettura e ha la possibilità di confrontarsi con gli altri membri del gruppo.  È un’occasione per mettersi in gioco\, scambiarsi i consigli di lettura e conoscere delle novità editoriali presenti nel catalogo. Appuntamento mensile. \n\nQuando: venerdì 23 gennaio\, 20 febbraio\, 20 marzo\, 24 aprile\, 22 maggio e 5 giugno 2026 alle ore 17.00\nDove: Biblioteca dei ragazzi – Palazzina Liberty\nCosto: attività gratuita\nInfo: tel. 0461.889559 | e-mail: biblioteca.ragazzi@comune.trento.it\n\nScoprite tutti gli appuntamenti nelle biblioteche comunali dedicati a bambini e ragazzi QUI
URL:https://www.iltrentinodeibambini.it/eventi/divoratori-di-libri-3/2026-06-05/
LOCATION:palazzina Liberty\, Piazza Dante\, Trento
CATEGORIES:In biblioteca
END:VEVENT
BEGIN:VEVENT
DTSTART;TZID=Europe/Rome:20260605T170000
DTEND;TZID=Europe/Rome:20260605T180000
DTSTAMP:20260422T234436
CREATED:20250821T143946Z
LAST-MODIFIED:20250821T143946Z
UID:10020998-1780678800-1780682400@www.iltrentinodeibambini.it
SUMMARY:Divoratori di pagine
DESCRIPTION:Gruppo di lettura per ragazzi e ragazze di età tra gli 11 e i 14 anni. Ciascun partecipante porta in gruppo la propria esperienza di lettura e ha la possibilità di confrontarsi con gli altri membri del gruppo.  È un’occasione per mettersi in gioco\, scambiarsi i consigli di lettura e conoscere delle novità editoriali presenti nel catalogo. Appuntamento mensile. \n\nQuando: venerdì 16 gennaio\, 13 febbraio\, 13 marzo\, 17 aprile\, 15 maggio e 5 giugno 2026 alle ore 17.00\nDove: Biblioteca dei ragazzi – Palazzina Liberty\nCosto: attività gratuita\nInfo: tel. 0461.889559 | e-mail: biblioteca.ragazzi@comune.trento.it\n\nScoprite tutti gli appuntamenti nelle biblioteche comunali dedicati a bambini e ragazzi QUI
URL:https://www.iltrentinodeibambini.it/eventi/divoratori-di-pagine/2026-06-05/
LOCATION:palazzina Liberty\, Piazza Dante\, Trento
CATEGORIES:In biblioteca
END:VEVENT
END:VCALENDAR