BEGIN:VCALENDAR
VERSION:2.0
PRODID:-//Il Trentino dei Bambini - ECPv6.13.2//NONSGML v1.0//EN
CALSCALE:GREGORIAN
METHOD:PUBLISH
X-WR-CALNAME:Il Trentino dei Bambini
X-ORIGINAL-URL:https://www.iltrentinodeibambini.it
X-WR-CALDESC:Eventi per Il Trentino dei Bambini
REFRESH-INTERVAL;VALUE=DURATION:PT1H
X-Robots-Tag:noindex
X-PUBLISHED-TTL:PT1H
BEGIN:VTIMEZONE
TZID:Europe/Rome
BEGIN:DAYLIGHT
TZOFFSETFROM:+0100
TZOFFSETTO:+0200
TZNAME:CEST
DTSTART:20250330T010000
END:DAYLIGHT
BEGIN:STANDARD
TZOFFSETFROM:+0200
TZOFFSETTO:+0100
TZNAME:CET
DTSTART:20251026T010000
END:STANDARD
BEGIN:DAYLIGHT
TZOFFSETFROM:+0100
TZOFFSETTO:+0200
TZNAME:CEST
DTSTART:20260329T010000
END:DAYLIGHT
BEGIN:STANDARD
TZOFFSETFROM:+0200
TZOFFSETTO:+0100
TZNAME:CET
DTSTART:20261025T010000
END:STANDARD
END:VTIMEZONE
BEGIN:VEVENT
DTSTART;TZID=Europe/Rome:20251219T163000
DTEND;TZID=Europe/Rome:20251219T173000
DTSTAMP:20260425T170754
CREATED:20251204T101205Z
LAST-MODIFIED:20251204T101205Z
UID:10022517-1766161800-1766165400@www.iltrentinodeibambini.it
SUMMARY:Aspettando il Natale
DESCRIPTION:Lettura ad alta voce di albi illustrati per bambini e bambine dai 3 anni a cura delle ragazze in Servizio Civile. \n\nQuando: venerdì 19 dicembre 2025 alle ore 16.30\nDove: biblioteca comunale – sede dell’Argentario\nCosto: partecipazione gratuita\nInfo: 0461.889797 | biblioteca.argentario@comune.trento.it\n\nScoprite tutti gli appuntamenti per bambini e ragazzi nelle biblioteche del comune di Trento QUI.
URL:https://www.iltrentinodeibambini.it/eventi/aspettando-il-natale/
LOCATION:biblioteca dell’Argentario\, Via Carlo e Valeria Julg\, 13\, Trento
CATEGORIES:In biblioteca
END:VEVENT
BEGIN:VEVENT
DTSTART;TZID=Europe/Rome:20251219T163000
DTEND;TZID=Europe/Rome:20251219T173000
DTSTAMP:20260425T170754
CREATED:20251209T203024Z
LAST-MODIFIED:20251209T203024Z
UID:10022573-1766161800-1766165400@www.iltrentinodeibambini.it
SUMMARY:Truffaldino e lo spirito del Natale
DESCRIPTION:Venerdì 19 dicembre ore 16.30\, Granaio di Nomi | Truffaldino e lo Spirito del Natale\, spettacolo di burattini a cura di Luciano Gottardi. \n 
URL:https://www.iltrentinodeibambini.it/eventi/truffaldino-e-lo-spirito-del-natale/
LOCATION:Nomi
CATEGORIES:A teatro
END:VEVENT
BEGIN:VEVENT
DTSTART;TZID=Europe/Rome:20251219T180000
DTEND;TZID=Europe/Rome:20251219T200000
DTSTAMP:20260425T170754
CREATED:20251209T204928Z
LAST-MODIFIED:20251209T204928Z
UID:10022579-1766167200-1766174400@www.iltrentinodeibambini.it
SUMMARY:Ci vediamo da Pippi
DESCRIPTION:In occasione dei festeggiamenti del Natale\, venerdì 19 dicembre ore 18.00\, presso l’Auditorium Scuola Primaria Isera va in scena Ci vediamo da Pippi!\, uno spettacolo teatrale a cura dei Piccoli e grandi attori d’I-sera. \nScopri qui Il Natale in Vallagarina
URL:https://www.iltrentinodeibambini.it/eventi/ci-vediamo-da-pippi/
LOCATION:Isera\, Isera\, 38060\, Italia
CATEGORIES:A teatro,Eventi speciali,Spettacoli
GEO:45.8867342;11.0090064
END:VEVENT
BEGIN:VEVENT
DTSTART;TZID=Europe/Rome:20251220T100000
DTEND;TZID=Europe/Rome:20251220T110000
DTSTAMP:20260425T170754
CREATED:20251125T073642Z
LAST-MODIFIED:20251125T073642Z
UID:10021893-1766224800-1766228400@www.iltrentinodeibambini.it
SUMMARY:Serafino canta fino a sera
DESCRIPTION:Sabato 20 dicembre 2025 alle ore 10.00 presso la Biblioteca di Ala\, laboratorio artistico con Amina Pedrinolla. \nEtà consigliata: dai 5 anni in su\nAttività gratuita su prenotazione \nContatti: ala@biblio.tn.it; 0464/671120 \nClicca e scopri la biblioteca di Ala
URL:https://www.iltrentinodeibambini.it/eventi/serafino-canta-fino-a-sera/
LOCATION:Biblioteca di Ala\, Via Roma 40\, Ala\, 38061\, Italia
CATEGORIES:In biblioteca,Laboratori,Spazi d'incontro
END:VEVENT
BEGIN:VEVENT
DTSTART;TZID=Europe/Rome:20251220T100000
DTEND;TZID=Europe/Rome:20251220T190000
DTSTAMP:20260425T170754
CREATED:20251215T092913Z
LAST-MODIFIED:20251215T092913Z
UID:10022601-1766224800-1766257200@www.iltrentinodeibambini.it
SUMMARY:Display: mostra interattiva
DESCRIPTION:Display è il progetto di Fondazione Caritro che porta la propria collezione d’arte (oltre 300 opere) fuori dalle sedi istituzionali in formato digitale\, rendendola accessibile a tutti. Tra pannelli narrativi\, schermi interattivi e spazi per dare vita al proprio catalogo personale\, l’esperienza sarà davvero coinvolgente anche per bambini e famiglie. Maggiori info QUI. \nIn mostra fino al primo febbraio 2026 presso Palazzo del Bene a Rovereto\, nei seguenti orari:  \n\nogni sabato\, domenica e lunedì dalle ore 10.00 alle 13.00 e dalle ore 15.00 alle 19.00
URL:https://www.iltrentinodeibambini.it/eventi/display-mostra-interattiva-2-2-2/2025-12-20/
LOCATION:palazzo del Bene\, piazza Antonio Rosmini\, 3\, Rovereto
CATEGORIES:Eventi speciali
END:VEVENT
BEGIN:VEVENT
DTSTART;TZID=Europe/Rome:20251220T100000
DTEND;TZID=Europe/Rome:20251220T190000
DTSTAMP:20260425T170754
CREATED:20251217T110929Z
LAST-MODIFIED:20251217T121654Z
UID:10022634-1766224800-1766257200@www.iltrentinodeibambini.it
SUMMARY:Natale a Borgo Valsugana
DESCRIPTION:Nei weekend di dicembre il centro di Borgo Valsugana\, in particolare piazza Degasperi\, si accende di magia con un ricco programma di eventi per grandi e piccini. Non mancheranno i laboratori creativi per bambini in compagnia degli elfi di Babbo Natale\, appuntamenti speciali e tanto divertimento. \nQuando: il 20\, 21 e 24 dicembre 2025 \nDa non perdere i laboratori per bambini e l’arrivo di Babbo Natale\, programma completo QUI
URL:https://www.iltrentinodeibambini.it/eventi/natale-a-borgo-valsugana-2-2/2025-12-20/
LOCATION:Borgo Valsugana\, Piazza Martiri
CATEGORIES:Eventi speciali
GEO:44.5443771;7.8299944
X-APPLE-STRUCTURED-LOCATION;VALUE=URI;X-ADDRESS=Borgo Valsugana Piazza Martiri;X-APPLE-RADIUS=500;X-TITLE=Piazza Martiri:geo:7.8299944,44.5443771
END:VEVENT
BEGIN:VEVENT
DTSTART;TZID=Europe/Rome:20251220T103000
DTEND;TZID=Europe/Rome:20251220T113000
DTSTAMP:20260425T170754
CREATED:20251209T160022Z
LAST-MODIFIED:20251209T160022Z
UID:10022563-1766226600-1766230200@www.iltrentinodeibambini.it
SUMMARY:Kamishibai natalizio
DESCRIPTION:Una narrazione speciale con il teatro di carta giapponese\, per immergersi nelle storie di Natale e vivere la magia attraverso immagini e parole. \n\nQuando: sabato 20 dicembre 2025 ore 10.30\nDove: biblioteca comunale di Lavis\nCosto: partecipazione libera e gratuita\nInfo: target 3-10 anni
URL:https://www.iltrentinodeibambini.it/eventi/kamishibai-natalizio/
LOCATION:Biblioteca di Lavis – Terre d’Adige\, Via degli Alpini\, 6\, Lavis\, 38015\, Italia
CATEGORIES:In biblioteca
GEO:46.16805;11.11061
X-APPLE-STRUCTURED-LOCATION;VALUE=URI;X-ADDRESS=Biblioteca di Lavis – Terre d’Adige Via degli Alpini 6 Lavis 38015 Italia;X-APPLE-RADIUS=500;X-TITLE=Via degli Alpini\, 6:geo:11.11061,46.16805
END:VEVENT
BEGIN:VEVENT
DTSTART;TZID=Europe/Rome:20251220T110000
DTEND;TZID=Europe/Rome:20251224T190000
DTSTAMP:20260425T170754
CREATED:20251029T094829Z
LAST-MODIFIED:20251029T094829Z
UID:10021641-1766228400-1766602800@www.iltrentinodeibambini.it
SUMMARY:Mercatino di Natale a Lavarone
DESCRIPTION:A partire dal 29 novembre 2025 fino al 5 gennaio 2026\, nei weekend e nei giorni festivi\, prende vita un piccolo ma grazioso mercatino di Natale a Lavarone. Nella splendida cornice di “Bertoldi veci“\, un suggestivo borgo di montagna\, potrete vivere l’autentica atmosfera delle feste. Non mancheranno gli appuntamenti per i più piccoli e la sfilata dei Krampus. Maggiori info QUI. \nIn particolare da non perdere questi appuntamenti per bambin*: \n\n20 dicembre 2025 alle ore 17.00 | sfilata dei krampus\n24 dicembre 2025 alle ore 17.30 | arriva Babbo Natale lungo le vie del mercatino\n26 dicembre 2025 dalle ore 15.30 | letture animate nei borghi per bambin*\n27 dicembre 2025 dalle ore 14.00 | animazione per bambin*\n30 dicembre 2025 dalle ore 14.00 | dimostrazione di intaglio del legno con motosega\n3 gennaio 2026 dalle ore 14.00 | animazione per bambin* | dalle ore 15.30 | letture animate nei borghi per bambin*\n5 gennaio 2026 alle ore 17.30 | arriva la Befana lungo le vie del mercatino
URL:https://www.iltrentinodeibambini.it/eventi/mercatino-di-natale-a-lavarone-2/
LOCATION:Lavarone\, Località Bertoldi
CATEGORIES:Eventi speciali
END:VEVENT
BEGIN:VEVENT
DTSTART;TZID=Europe/Rome:20251220T140000
DTEND;TZID=Europe/Rome:20251220T153000
DTSTAMP:20260425T170754
CREATED:20251209T205237Z
LAST-MODIFIED:20251209T205237Z
UID:10022580-1766239200-1766244600@www.iltrentinodeibambini.it
SUMMARY:Biscottando con gli elfi
DESCRIPTION:Sabato 20 dicembre dalle ore 14.00 presso l’Aula Gialla\, Ex Scuola Elementare di Isera un simpatico e golosso laboratorio dal titolo Biscottando con gli Elfi. \nLaboratorio di pasticceria per bambine e bambini dai 6 agli 11 anni. \nA cura dell’Associazione Isera Futura. \nIscrizione obbligatoria entro le ore 12.00 di venerdì 19 dicembre (iserafutura@gmail.com). \nScopri Il Natale in Vallagarina
URL:https://www.iltrentinodeibambini.it/eventi/biscottando-con-gli-elfi/
LOCATION:Isera\, Isera\, 38060\, Italia
CATEGORIES:Eventi speciali,Laboratori
GEO:45.8867342;11.0090064
END:VEVENT
BEGIN:VEVENT
DTSTART;TZID=Europe/Rome:20251220T143000
DTEND;TZID=Europe/Rome:20251220T183000
DTSTAMP:20260425T170754
CREATED:20251209T210744Z
LAST-MODIFIED:20251209T210744Z
UID:10022588-1766241000-1766255400@www.iltrentinodeibambini.it
SUMMARY:Corsa dei piccoli babbi e cookie lab
DESCRIPTION:Nel centro storico di Sabbionara d’Avio\, il Natale è dentro e fuori le mura: scopri QUI il caratteristico mercatino all’interno del castello\, mentre per le vie del paese\, il 6-7-8\, il 13 e 14 e il 20 e 21 dicembre 2025 troverai bancarelle natalizie\, intrattenimento musicale e proposte gastronomiche locali\, nonché un bus navetta che ti porterà al castello. Un programma ricco di cultura e socialità\, capace di regalare a tutti un’esperienza unica e indimenticabile\, con appuntamenti nelle frazioni del Comune di Avio adatti a ogni età: eventi culturali\, concerti nelle incantevoli chiese parrocchiali\, spettacoli teatrali\, stand enogastronomici e la tradizionale mostra dei presepi. \nSabato 20 dicembre 2025\, in occasione del  NATALE DEI BAMBINI\, alle ore 14:30 nel centro storico di Avio si terrà la tradizionale Corsa dei piccoli Babbi con merenda e bevande calde; a seguire\, dalle ore 16.00 alle ore 18.30\, presso l’ Oratorio di Avio\, laboratorio Natalizio di Biscotti per i bimbi dalla 1 alla 5 elementare. \nPrenotazione obbligatoria: (Veronica) 346 6336335 \nProgramma completo QUI  \nScopri qui il Il Natale in Vallagarina
URL:https://www.iltrentinodeibambini.it/eventi/corsa-dei-piccoli-babbi-e-cookie-lab/
LOCATION:Avio\, Centro Storico\, Avio\, Trentino\, 38063\, Italia
CATEGORIES:Eventi speciali,Laboratori
GEO:45.7327794;10.9397993
X-APPLE-STRUCTURED-LOCATION;VALUE=URI;X-ADDRESS=Avio Centro Storico Avio Trentino 38063 Italia;X-APPLE-RADIUS=500;X-TITLE=Centro Storico:geo:10.9397993,45.7327794
END:VEVENT
BEGIN:VEVENT
DTSTART;TZID=Europe/Rome:20251220T150000
DTEND;TZID=Europe/Rome:20251220T170000
DTSTAMP:20260425T170754
CREATED:20251201T161550Z
LAST-MODIFIED:20251201T161550Z
UID:10021966-1766242800-1766250000@www.iltrentinodeibambini.it
SUMMARY:In attesa del Natale a Vallelaghi
DESCRIPTION:In attesa della magia del Natale…🎅 presso la sede dell’ Ecomuseo a Vezzano si terrano dei laboratori creativi per bambini/e \nQuando: \n\nsabato pomeriggio dalle 15 alle 17 il 20 dicembre: creazione di un addobbo con la tecnica del Macramé\n\nPer info e prenotazioni:\n📞 333 5360188\n📧 info@ecomuseovalledeilaghi.it
URL:https://www.iltrentinodeibambini.it/eventi/in-attesa-del-natale-a-vallelaghi-3/
LOCATION:Ecomuseo Vallelaghi\, Via Roma\, 63\, Vezzano\, 38076\, Italia
CATEGORIES:Laboratori
END:VEVENT
BEGIN:VEVENT
DTSTART;TZID=Europe/Rome:20251220T160000
DTEND;TZID=Europe/Rome:20251220T180000
DTSTAMP:20260425T170754
CREATED:20251217T102241Z
LAST-MODIFIED:20251217T102241Z
UID:10022629-1766246400-1766253600@www.iltrentinodeibambini.it
SUMMARY:Gli alberi dell'accoglienza
DESCRIPTION:Un pomeriggio dedicato allo stare insieme pensato da Fondazione Caritro e Casa Fiordaliso. Una merenda per famiglie\, bambini e amici in compagnia di Babbo Natale. Ci saranno cioccolata calda\, zucchero filato e una piccola decorazione in regalo. \n\nQuando: sabato 20 dicembre 2025 alle ore 16.00\nDove: loggiato di Palazzo del Bene – Rovereto\nCosto: partecipazione gratuita\nInfo: maggiori dettagli QUI\n\nUn’occasione per visitare la mostra interattiva Display.
URL:https://www.iltrentinodeibambini.it/eventi/gli-alberi-dellaccoglienza/
LOCATION:palazzo del Bene\, piazza Antonio Rosmini\, 3\, Rovereto
CATEGORIES:Eventi speciali
END:VEVENT
BEGIN:VEVENT
DTSTART;TZID=Europe/Rome:20251220T160000
DTEND;TZID=Europe/Rome:20260106T190000
DTSTAMP:20260425T170754
CREATED:20251124T214018Z
LAST-MODIFIED:20251124T214018Z
UID:10021857-1766246400-1767726000@www.iltrentinodeibambini.it
SUMMARY:Villaggio Sotto l'Albero
DESCRIPTION:A Predazzo l’atmosfera si scalda per il Natale! Vieni a scoprire le bancarelle tra luci\, profumi e artigianato\, e le iniziative natalizie! \nSi parte il 6 dicembre con l’accensione dell’albero e la sfilata di San Nicolò e dei Krampus!  Il Villaggio sarà aperto dalle 16.00 alle 19.00 nelle seguenti date: \n\n\n6–8 dicembre\n13–14 dicembre\n20–24 dicembre\n dal 26 dicembre al 6 gennaio\n\n\n\nPer info: www.comunedipredazzo.it\n\n\nScopri tutta la magia del Villaggio sotto l’Albero
URL:https://www.iltrentinodeibambini.it/eventi/villaggio-sotto-lalbero-3/
LOCATION:Predazzo\, Italia
CATEGORIES:Eventi speciali
GEO:41.87194;12.56738
END:VEVENT
BEGIN:VEVENT
DTSTART;TZID=Europe/Rome:20251220T170000
DTEND;TZID=Europe/Rome:20251220T180000
DTSTAMP:20260425T170754
CREATED:20251029T100345Z
LAST-MODIFIED:20251029T103847Z
UID:10021649-1766250000-1766253600@www.iltrentinodeibambini.it
SUMMARY:Sfilata dei Krampus a Lavarone
DESCRIPTION:Durante il mercatino di Natale nella frazione di Bertoldi a Lavarone\, il 20 dicembre 2025 alle ore 17.00 si terrà la sfilata dei krampus tra le vie del centro. \nScoprite tante altre sfilate dei Krampus QUI.
URL:https://www.iltrentinodeibambini.it/eventi/sfilata-dei-krampus-a-lavarone/
LOCATION:Lavarone\, Località Bertoldi
CATEGORIES:Eventi speciali
END:VEVENT
BEGIN:VEVENT
DTSTART;TZID=Europe/Rome:20251220T170000
DTEND;TZID=Europe/Rome:20251220T183000
DTSTAMP:20260425T170754
CREATED:20251117T084700Z
LAST-MODIFIED:20251117T084700Z
UID:10021833-1766250000-1766255400@www.iltrentinodeibambini.it
SUMMARY:Incanto di fuoco
DESCRIPTION:Uno spettacolo fiabesco tra luci e fuoco dove una strega gentile di un tempo lontano svela la forza dell’amore e della magia custodita in ognuno di noi. A conclusione deliziosi bannok secondo la tradizione nordica. \n\nQuando: sabato 20 dicembre 2025 alle ore 17.00\nDove: Parco di Clarofonte\nCosto: gratuito\n\nScoprite tutti gli appuntamenti del Villaggio degli Intrecci QUI.
URL:https://www.iltrentinodeibambini.it/eventi/incanto-di-fuoco/
LOCATION:Parco Clarofonte\, Via Risorgimento\, 1\, Transacqua
CATEGORIES:Eventi speciali
END:VEVENT
BEGIN:VEVENT
DTSTART;TZID=Europe/Rome:20251221T093000
DTEND;TZID=Europe/Rome:20251221T120000
DTSTAMP:20260425T170754
CREATED:20251202T212728Z
LAST-MODIFIED:20251202T212728Z
UID:10021975-1766309400-1766318400@www.iltrentinodeibambini.it
SUMMARY:LITTLE MART - Quanta strada Babbo Natale!
DESCRIPTION:Il tema degli incontri Little Mart? Le mostre e le collezioni del museo o\, più in generale\, temi e tecniche legati all’arte contemporanea. Vere e proprie palestre della creatività con laboratori che coinvolgono bambini e adulti proponendo una partecipazione attiva. \nATTIVITÀ: Quanta strada Babbo Natale! | Il viaggio di Babbo Natale è il tema di un libro pop-up che si crea piegando a fisarmonica una striscia di cartoncino bianco. Tra le pieghe trovano posto le impronte lasciate dal protagonista o da altri personaggi\, mentre le sagome ritagliate nel cartoncino colorato raccontano la storia del loro lungo percorso. Dai 4 ai 10 anni. \nDOVE: Area Educazione – MART Museo di Arte Moderna e Contemporanea Rovereto\, C.so Bettini 43\, Rovereto\nQUANDO: Domenica 21 dicembre 2025\, ore 9.30-10.30 e ore 11.00-12.00\nCOSTO: 5 euro a bambino. Accompagnatore gratuito\nADATTO A: bambini 4-10 anni\nPRENOTAZIONI:  dal lunedì al venerdì scrivendo a education@mart.trento.it o telefonando allo 0464 454135-108. Il sabato e la domenica presso la biglietteria del Mart (0464 454240). \nConosci già il MART? Scoprilo meglio\, leggi Al MART coi bambini
URL:https://www.iltrentinodeibambini.it/eventi/quanta-strada-babbo-natale/
LOCATION:MART – Museo ArteModerna e Contemporanea Rovereto\, Corso Bettini 43\, Rovereto\, TN\, 38068\, Italia
CATEGORIES:Al Museo,Laboratori
END:VEVENT
BEGIN:VEVENT
DTSTART;TZID=Europe/Rome:20251221T110000
DTEND;TZID=Europe/Rome:20251221T180000
DTSTAMP:20260425T170754
CREATED:20251209T121009Z
LAST-MODIFIED:20251209T121009Z
UID:10022530-1766314800-1766340000@www.iltrentinodeibambini.it
SUMMARY:Crea la tua costellazione
DESCRIPTION:Le costellazioni sono nate osservando le stelle in cielo e creando dei disegni unendole tra loro. Forbici alla mano\, realizza la tua personale costellazione. \n\nQuando: 8\, 21\, 26 e 28 dicembre 2025\, 2 e 6 gennaio 2026 dalle 11 alle 13 e dalle 15 alle 18 | 24 e 31 dicembre 2025 solo dalle 11 alle 13 | giovedì 1 gennaio 2026 solo dalle 15 alle 18\nDove: Piano 1 – Aula FabLab est – Muse\nCosto: compreso nel biglietto d’ingresso\nTarget: 6+\n\nTutti gli appuntamenti nel periodo natalizio al Muse QUI.
URL:https://www.iltrentinodeibambini.it/eventi/crea-la-tua-costellazione/2025-12-21/
LOCATION:MUSE\, Italia
CATEGORIES:Al Museo,Laboratori
GEO:46.0700915;11.1197626
END:VEVENT
BEGIN:VEVENT
DTSTART;TZID=Europe/Rome:20251221T110000
DTEND;TZID=Europe/Rome:20251221T180000
DTSTAMP:20260425T170754
CREATED:20251209T121541Z
LAST-MODIFIED:20251209T121541Z
UID:10022538-1766314800-1766340000@www.iltrentinodeibambini.it
SUMMARY:Science snacks
DESCRIPTION:Esperimenti divertenti per piccole grandi scoperte scientifiche. \n\nQuando: 8\, 21\, 26 e 28 dicembre 2025 e 2 e 6 gennaio 2026 dalle 11 alle 13 e dalle 15 alle 18 | mercoledì 31 dicembre 2025 solo dalle 11 alle 13 | giovedì 1 gennaio 2026 solo dalle 15 alle 18\nDove: Piano 2 – Aula Gordon – Muse\nCosto: compreso nel biglietto d’ingresso\nTarget: 8+\n\nTutti gli appuntamenti nel periodo natalizio al Muse QUI.
URL:https://www.iltrentinodeibambini.it/eventi/science-snacks-2/2025-12-21/
LOCATION:MUSE\, Italia
CATEGORIES:Al Museo,Laboratori
GEO:46.0700915;11.1197626
END:VEVENT
BEGIN:VEVENT
DTSTART;TZID=Europe/Rome:20251221T140000
DTEND;TZID=Europe/Rome:20251221T170000
DTSTAMP:20260425T170754
CREATED:20251202T090925Z
LAST-MODIFIED:20251202T090925Z
UID:10021968-1766325600-1766336400@www.iltrentinodeibambini.it
SUMMARY:Camminata dei Babbi Natale
DESCRIPTION:Un evento che unisce sport e solidarietà tra le vie di uno dei borghi più belli d’Italia. Due percorsi: uno adatto a famiglie e bambini (5 chilometri) l’altro per runner (9 chilometri). \n\nQuando: domenica 21 dicembre 2025 dalle ore 14.00\nDove: Borgo Valsugana\nCosto: adulti 10 euro | ragazzi (11-15 anni) 4 euro | bambini (6-10 anni) 3 euro | bambini 0-5 gratuito\nInfo: iscrizione entro mercoledì 18 dicembre 2025 QUI
URL:https://www.iltrentinodeibambini.it/eventi/camminata-dei-babbi-natale/
LOCATION:Borgo Valsugana\, piazza\, Borgo Valsugana
CATEGORIES:Eventi speciali
GEO:43.8772724;11.1137082
X-APPLE-STRUCTURED-LOCATION;VALUE=URI;X-ADDRESS=Borgo Valsugana piazza Borgo Valsugana;X-APPLE-RADIUS=500;X-TITLE=piazza:geo:11.1137082,43.8772724
END:VEVENT
BEGIN:VEVENT
DTSTART;TZID=Europe/Rome:20251221T150000
DTEND;TZID=Europe/Rome:20251221T170000
DTSTAMP:20260425T170754
CREATED:20251126T090202Z
LAST-MODIFIED:20251126T090202Z
UID:10021935-1766329200-1766336400@www.iltrentinodeibambini.it
SUMMARY:Bagliori natalizi
DESCRIPTION:Laboratorio creativo per realizzare addobbi in legno decorati con la tecnica della foglia d’oro. \n\nQuando: domenica 21 dicembre 2025 alle ore 15.00\nDove: Castello del Buonconsiglio – Trento\nCosto: 8 euro a nucleo familiare\nInfo: tel. 0461 492811 | prenotazione consigliata QUI\n\nScoprite tutti gli eventi per bambini e famiglie nei castelli QUI.
URL:https://www.iltrentinodeibambini.it/eventi/bagliori-natalizi-2/
LOCATION:Castello del Buonconsiglio\, Trento 
CATEGORIES:Al Museo,Laboratori
GEO:46.0700915;11.1197626
END:VEVENT
BEGIN:VEVENT
DTSTART;TZID=Europe/Rome:20251221T150000
DTEND;TZID=Europe/Rome:20251221T170000
DTSTAMP:20260425T170754
CREATED:20251209T203921Z
LAST-MODIFIED:20251209T203921Z
UID:10022576-1766329200-1766336400@www.iltrentinodeibambini.it
SUMMARY:Natale dei bambini a Castellano
DESCRIPTION:Domenica 21 dicembre\, ore 15.00\, Teatro comunale di Castellano | Natale dei bambini. Spettacolo teatrale\, musica e intrattenimento. Premiazioni dei concorso “Disegna il Natale”. A seguire\, l’arrivo di Babbo Natale. \n 
URL:https://www.iltrentinodeibambini.it/eventi/natale-dei-bambini-a-castellano/
LOCATION:Castellano\, TN\, Italia
CATEGORIES:Eventi speciali,Feste,Spettacoli
END:VEVENT
BEGIN:VEVENT
DTSTART;TZID=Europe/Rome:20251222T100000
DTEND;TZID=Europe/Rome:20251222T123000
DTSTAMP:20260425T170754
CREATED:20251209T122723Z
LAST-MODIFIED:20251209T122723Z
UID:10022559-1766397600-1766406600@www.iltrentinodeibambini.it
SUMMARY:Giardino d’inverno
DESCRIPTION:Esplora il paesaggio incantato delle Viote con le ciaspole ai piedi\, impara a riconoscere le tracce di animali e scopri le strategie di adattamento al freddo. Dopo l’escursione\, riscaldati con una tisana nella Sala delle Erbe\, partecipa al laboratorio per imparare a costruire palline di semi per l’avifauna e osserva con i binocoli gli uccelli sulle mangiatoie. \n\nQuando: 22 e 29 dicembre 2025 e 5 gennaio 2026 alle ore 10\nDove: Giardino Botanico Alpino Viote – Monte Bondone\nCosto: 5\,50€ | 4 € con laMyMUSE Membership Card\nTarget: 5+\nInfo: l’attività si svolge solo in presenza di neve e con bel tempo
URL:https://www.iltrentinodeibambini.it/eventi/giardino-dinverno-4/2025-12-22/
LOCATION:Giardino Botanico Alpino Viote\, Loc. Viote\, Trento
CATEGORIES:Escursioni
GEO:46.0700915;11.1197626
X-APPLE-STRUCTURED-LOCATION;VALUE=URI;X-ADDRESS=Giardino Botanico Alpino Viote Loc. Viote Trento;X-APPLE-RADIUS=500;X-TITLE=Loc. Viote:geo:11.1197626,46.0700915
END:VEVENT
BEGIN:VEVENT
DTSTART;TZID=Europe/Rome:20251222T100000
DTEND;TZID=Europe/Rome:20251222T123000
DTSTAMP:20260425T170754
CREATED:20251216T082758Z
LAST-MODIFIED:20251222T084015Z
UID:10022635-1766397600-1766406600@www.iltrentinodeibambini.it
SUMMARY:Giardino d'inverno
DESCRIPTION:Esplora il paesaggio incantato delle Viote con le ciaspole ai piedi\, impara a riconoscere le tracce di animali e scopri le strategie di adattamento al freddo. \n\nQuando: 22 e 29 dicembre 2025 | 5 gennaio 2026 dalle 10.00 alle 12.30\nCosto: 5\,50 euro a partecipante | 4 euro con MyMuse card\nDove: ritrovo all’ingresso del giardino botanico alpino Viote\nInfo: target 5+ | maggiori dettagli QUI
URL:https://www.iltrentinodeibambini.it/eventi/giardino-dinverno-3-2/2025-12-22/
LOCATION:Giardino Botanico Alpino Viote\, Loc. Viote\, Trento
CATEGORIES:Eventi speciali,Visite guidate
GEO:46.0700915;11.1197626
X-APPLE-STRUCTURED-LOCATION;VALUE=URI;X-ADDRESS=Giardino Botanico Alpino Viote Loc. Viote Trento;X-APPLE-RADIUS=500;X-TITLE=Loc. Viote:geo:11.1197626,46.0700915
END:VEVENT
BEGIN:VEVENT
DTSTART;TZID=Europe/Rome:20251222T170000
DTEND;TZID=Europe/Rome:20251222T210000
DTSTAMP:20260425T170754
CREATED:20251222T090021Z
LAST-MODIFIED:20251222T114807Z
UID:10022636-1766422800-1766437200@www.iltrentinodeibambini.it
SUMMARY:Natale d'incanto a palazzo
DESCRIPTION:Un percorso fantastico sul tema dell’amicizia che viene narrata ai piccoli e alle loro famiglie con la fiaba “Dafne e il filo di Natale”. Inoltre vengono organizzati eventi e laboratori. \n\nQuando: dal 20 dicembre 2025 al 5 gennaio 2026 tutti i giorni tranne Natale e l’ultimo dell’anno dalle ore 17.00 alle ore 21.00\nCosto: ingresso gratuito\nDove: Palazzo Aliprandini Laifenthurn di Livo – Val di Non\nInfo: maggiori dettagli QUI
URL:https://www.iltrentinodeibambini.it/eventi/natale-dincanto-a-palazzo/2025-12-22/
LOCATION:Livo\, Livo\, TN\, 38020\, Italia
CATEGORIES:Eventi speciali
END:VEVENT
BEGIN:VEVENT
DTSTART;TZID=Europe/Rome:20251223T110000
DTEND;TZID=Europe/Rome:20251223T180000
DTSTAMP:20260425T170754
CREATED:20251209T121806Z
LAST-MODIFIED:20251209T121806Z
UID:10022545-1766487600-1766512800@www.iltrentinodeibambini.it
SUMMARY:Light Painting
DESCRIPTION:Immergiti nel buio e scopri come un led e una macchina fotografica possono trasformarsi in strumenti per “dipingere” con la luce. \n\nQuando: 23\, 29 e 30 dicembre 2025 e lunedì 5 gennaio 2026\, dalle 11 alle 13 e dalle 15\nalle 18\nDove: Piano 3 – Aula Lamarr – Muse\nCosto: compreso nel biglietto d’ingresso\n\nTutti gli appuntamenti nel periodo natalizio al Muse QUI.
URL:https://www.iltrentinodeibambini.it/eventi/light-painting/2025-12-23/
LOCATION:MUSE\, Italia
GEO:46.0700915;11.1197626
END:VEVENT
BEGIN:VEVENT
DTSTART;TZID=Europe/Rome:20251223T153000
DTEND;TZID=Europe/Rome:20251223T183000
DTSTAMP:20260425T170754
CREATED:20251118T111459Z
LAST-MODIFIED:20251118T111459Z
UID:10021837-1766503800-1766514600@www.iltrentinodeibambini.it
SUMMARY:Sulla carrozza di Babbo Natale
DESCRIPTION:A Moena\, in Val di Fassa\, martedì 23 e mercoledì 24 dicembre 2025\, tra le 15.30 e le 18.30\, sali sulla carrozza di Babbo Natale e dei suoi elfi. Il giro ti farà attraversare il caratteristico rione di Turchia. \nLa partenza è prevista in Piaz de Ramon. Servizio a pagamento: 5 € adulti\, 3 € bambini.
URL:https://www.iltrentinodeibambini.it/eventi/sulla-carrozza-di-babbo-natale/2025-12-23/
LOCATION:Moena\, Piaz de sotegrava 20\, Moena\, 38035
CATEGORIES:Eventi speciali
GEO:46.37658;11.65957
X-APPLE-STRUCTURED-LOCATION;VALUE=URI;X-ADDRESS=Moena Piaz de sotegrava 20 Moena 38035;X-APPLE-RADIUS=500;X-TITLE=Piaz de sotegrava 20:geo:11.65957,46.37658
END:VEVENT
BEGIN:VEVENT
DTSTART;TZID=Europe/Rome:20251223T160000
DTEND;TZID=Europe/Rome:20251223T170000
DTSTAMP:20260425T170754
CREATED:20251209T122343Z
LAST-MODIFIED:20251209T122343Z
UID:10022558-1766505600-1766509200@www.iltrentinodeibambini.it
SUMMARY:Aria di musica
DESCRIPTION:Durante il concerto verranno proposti brani ritmici e tonali senza le parole\, nel rispetto della qualità e della varietà\, secondo i principi della Music Learning Theory di E. E. Gordon. \n\nQuando: 23 dicembre 2025 alle ore 16.00\nDove: Muse – Trento\nCosto: gratuito\n\nTutti gli appuntamenti nel periodo natalizio al Muse QUI.
URL:https://www.iltrentinodeibambini.it/eventi/aria-di-musica/
LOCATION:MUSE\, Italia
CATEGORIES:Al Museo
GEO:46.0700915;11.1197626
END:VEVENT
BEGIN:VEVENT
DTSTART;TZID=Europe/Rome:20251223T160000
DTEND;TZID=Europe/Rome:20251223T180000
DTSTAMP:20260425T170754
CREATED:20251103T120448Z
LAST-MODIFIED:20251103T120448Z
UID:10021689-1766505600-1766512800@www.iltrentinodeibambini.it
SUMMARY:Natale glassato
DESCRIPTION:Laboratorio di decorazioni biscotti dedicato ai più piccoli. Un’occasione unica per preparare dei meravigliosi biscotti decorati da lasciare sotto l’albero per l’arrivo di Babbo Natale. I bambini potranno mettere le mani in pasta ed esplorare il mondo dei biscotti nel periodo più dolce dell’anno. \n\nQuando: martedì 23 dicembre 2025 alle ore 16.00\nDove: Palazzo Scopoli – Tonadico\nCosto: 15 euro a partecipante |\nInfo: target 6-10 anni | durata: 2 ore | posti limitati | prenotazione via whatsapp al numero 349.5209345\n\nScoprite altri appuntamenti per bambin* a Palazzo Scopoli QUI.
URL:https://www.iltrentinodeibambini.it/eventi/natale-glassato/
LOCATION:Palazzo Scopoli\, piazzetta Marzollo\, 3\, Tonadico\, Italia
CATEGORIES:Al Museo,Laboratori
END:VEVENT
BEGIN:VEVENT
DTSTART;TZID=Europe/Rome:20251223T160000
DTEND;TZID=Europe/Rome:20251223T210000
DTSTAMP:20260425T170754
CREATED:20251127T115612Z
LAST-MODIFIED:20251127T115612Z
UID:10021936-1766505600-1766523600@www.iltrentinodeibambini.it
SUMMARY:Filò de Nadale
DESCRIPTION:Musica\, sfilata e dalle ore 18.00 stand gastronomici e mercatini di Natale. \n\nQuando: 23 dicembre 2025 dalle ore 16.00\nDove: presso il piazzale nord delle scuole – Pieve Tesino\nCosto: partecipazione libera e gratuita\nInfo: tel. Pro Loco 0461.594292\n\nUn ricco calendario di eventi per un inverno pieno di emozioni e tradizioni a Pieve Tesino\, scoprite tutto QUI.
URL:https://www.iltrentinodeibambini.it/eventi/filo-de-nadale-3/
LOCATION:Pieve Tesino\, Pieve Tesino
CATEGORIES:Eventi speciali,Feste
GEO:46.2094504;11.5650253
END:VEVENT
BEGIN:VEVENT
DTSTART;TZID=Europe/Rome:20251224T160000
DTEND;TZID=Europe/Rome:20251224T173000
DTSTAMP:20260425T170754
CREATED:20251114T172133Z
LAST-MODIFIED:20251114T172133Z
UID:10021826-1766592000-1766597400@www.iltrentinodeibambini.it
SUMMARY:Auguri con Babbo Natale
DESCRIPTION:Mercoledì 24 dicembre 2025 alle ore 16.00 saluta e fai gli auguri di buone feste a Babbo Natale in persona! Ti aspetta in piazza Buonacquisto ad Ala. Bevande calde e dolci natalizi per tutti i bambini presenti! \nScopri tutti gli eventi del Natale nei palazzi barocchi
URL:https://www.iltrentinodeibambini.it/eventi/auguri-con-babbo-natale/
LOCATION:Ala – centro storico\, Piazza San Giovanni\, Ala\, TN\, 38061\, Italia
CATEGORIES:Eventi speciali
END:VEVENT
END:VCALENDAR