BEGIN:VCALENDAR
VERSION:2.0
PRODID:-//Il Trentino dei Bambini - ECPv6.13.2//NONSGML v1.0//EN
CALSCALE:GREGORIAN
METHOD:PUBLISH
X-WR-CALNAME:Il Trentino dei Bambini
X-ORIGINAL-URL:https://www.iltrentinodeibambini.it
X-WR-CALDESC:Eventi per Il Trentino dei Bambini
REFRESH-INTERVAL;VALUE=DURATION:PT1H
X-Robots-Tag:noindex
X-PUBLISHED-TTL:PT1H
BEGIN:VTIMEZONE
TZID:Europe/Rome
BEGIN:DAYLIGHT
TZOFFSETFROM:+0100
TZOFFSETTO:+0200
TZNAME:CEST
DTSTART:20260329T010000
END:DAYLIGHT
BEGIN:STANDARD
TZOFFSETFROM:+0200
TZOFFSETTO:+0100
TZNAME:CET
DTSTART:20261025T010000
END:STANDARD
END:VTIMEZONE
BEGIN:VEVENT
DTSTART;TZID=Europe/Rome:20260808T080000
DTEND;TZID=Europe/Rome:20260808T100000
DTSTAMP:20260423T040754
CREATED:20260221T172732Z
LAST-MODIFIED:20260221T172732Z
UID:10022982-1786176000-1786183200@www.iltrentinodeibambini.it
SUMMARY:Sulle tracce dei dinosauri
DESCRIPTION:Nel sito paleontologico delle Orme dei Dinosauri in località Lavini di Marco\, tra i più importanti e spettacolari in Europa\, sono visibili le orme di dinosauri carnivori ed erbivori vissuti all’inizio del Giurassico. Visita il sito con gli esperti del Museo di Scienze e Archeologia di Rovereto. \nCALENDARIO 2026\n▪️ 14 e 28 febbraio\, ore 9-11\n▪️ 14 e 28 marzo\, ore 9-11\n▪️ 11 e 18 aprile\, ore 9-11\n▪️ 9 e 23 maggio\, ore 9-11\n▪️ 13 e 27 giugno\, ore 8-10\n▪️ 11 e 25 luglio\, ore 8-10\n▪️ 8 e 22 agosto\, ore 8-10\n▪️ 12 e 26 settembre\, ore 9-11\n▪️ 10 e 24 ottobre\, ore 9-11\n▪️ 14 e 28 novembre\, ore 9-11 \n\nPrenotazione entro le 17 del giorno precedente. Clicca QUI\nLa tariffa di partecipazione è di euro 7 a persona\nAccesso al sito con mezzi propri. Partenza dal parcheggio della Baita Alpini Damiano Chiesa.\n\nL’attività può essere annullata per mancato raggiungimento del numero minimo o causa maltempo. In questi casi\, la prenotazione può essere recuperata in un’occasione successiva. \nSi richiedono abbigliamento e calzature appropriate\, in particolare scarponcini da montagna o scarpe da trekking\, cappello\, giacca a vento o ombrello\, borraccia con acqua. \nInfo: Museo di Scienze e Archeologia tel. 0464 452800; museo@fondazionemcr.it \nScopri i dinosauri ai Lavini di Marco 
URL:https://www.iltrentinodeibambini.it/eventi/sulle-tracce-dei-dinosauri/2026-08-08/
LOCATION:Lavini di Marco\, Marco
CATEGORIES:Visite guidate
END:VEVENT
END:VCALENDAR