BEGIN:VCALENDAR
VERSION:2.0
PRODID:-//Il Trentino dei Bambini - ECPv6.13.2//NONSGML v1.0//EN
CALSCALE:GREGORIAN
METHOD:PUBLISH
X-ORIGINAL-URL:https://www.iltrentinodeibambini.it
X-WR-CALDESC:Eventi per Il Trentino dei Bambini
REFRESH-INTERVAL;VALUE=DURATION:PT1H
X-Robots-Tag:noindex
X-PUBLISHED-TTL:PT1H
BEGIN:VTIMEZONE
TZID:Europe/Rome
BEGIN:DAYLIGHT
TZOFFSETFROM:+0100
TZOFFSETTO:+0200
TZNAME:CEST
DTSTART:20250330T010000
END:DAYLIGHT
BEGIN:STANDARD
TZOFFSETFROM:+0200
TZOFFSETTO:+0100
TZNAME:CET
DTSTART:20251026T010000
END:STANDARD
END:VTIMEZONE
BEGIN:VEVENT
DTSTART;TZID=Europe/Rome:20251004T170000
DTEND;TZID=Europe/Rome:20251004T180000
DTSTAMP:20260422T155847
CREATED:20250327T091813Z
LAST-MODIFIED:20250929T153523Z
UID:10018041-1759597200-1759600800@www.iltrentinodeibambini.it
SUMMARY:Iacobel e lo spirito della natura
DESCRIPTION:Il Corpo Musicale Santa Cecilia di Volano porta in scena “Iacobel e lo spirito della natura”. Una fiaba musicale inedita scritta e arrangiata per trasportare bambini e famiglie in un mondo incantato. Maggiori info QUI. \n\nQuando: sabato 4 ottobre 2025 alle ore 17.00\nDove: Carbonare di Folgaria\nCosto: ingresso libero\nDurata: un’ora circa
URL:https://www.iltrentinodeibambini.it/eventi/iacobel-e-lo-spirito-della-natura-2-2/
LOCATION:Carbonare di Folgaria
CATEGORIES:A teatro,Eventi speciali
END:VEVENT
END:VCALENDAR