BEGIN:VCALENDAR
VERSION:2.0
PRODID:-//Il Trentino dei Bambini - ECPv6.13.2//NONSGML v1.0//EN
CALSCALE:GREGORIAN
METHOD:PUBLISH
X-ORIGINAL-URL:https://www.iltrentinodeibambini.it
X-WR-CALDESC:Eventi per Il Trentino dei Bambini
REFRESH-INTERVAL;VALUE=DURATION:PT1H
X-Robots-Tag:noindex
X-PUBLISHED-TTL:PT1H
BEGIN:VTIMEZONE
TZID:Europe/Rome
BEGIN:DAYLIGHT
TZOFFSETFROM:+0100
TZOFFSETTO:+0200
TZNAME:CEST
DTSTART:20260329T010000
END:DAYLIGHT
BEGIN:STANDARD
TZOFFSETFROM:+0200
TZOFFSETTO:+0100
TZNAME:CET
DTSTART:20261025T010000
END:STANDARD
END:VTIMEZONE
BEGIN:VEVENT
DTSTART;TZID=Europe/Rome:20260314T153000
DTEND;TZID=Europe/Rome:20260314T170000
DTSTAMP:20260421T095955
CREATED:20260302T075234Z
LAST-MODIFIED:20260302T075234Z
UID:10023002-1773502200-1773507600@www.iltrentinodeibambini.it
SUMMARY:Little chef - pizza edition
DESCRIPTION:Un divertente laboratorio di pizza in inglese per bambini\, pensato per unire creatività\, gioco e apprendimento naturale della lingua. \n\nQuando: sabato 14 marzo 2026 alle ore 15.30\nDove: Pizzeria Alchimia del Grano a Cognola\nCosto: 15 euro a partecipante | 25 euro due partecipanti\nInfo: posti limitati\, attività su prenotazione QUI\n\nScoprite tutti gli appuntamenti per bambini e famiglie della scuola di inglese Kids&Us Trento QUI.
URL:https://www.iltrentinodeibambini.it/eventi/little-chef-pizza-edition/
LOCATION:Cognola\, piazza dell'Argentario
CATEGORIES:Eventi speciali,Laboratori
END:VEVENT
END:VCALENDAR