BEGIN:VCALENDAR
VERSION:2.0
PRODID:-//Il Trentino dei Bambini - ECPv6.13.2//NONSGML v1.0//EN
CALSCALE:GREGORIAN
METHOD:PUBLISH
X-ORIGINAL-URL:https://www.iltrentinodeibambini.it
X-WR-CALDESC:Eventi per Il Trentino dei Bambini
REFRESH-INTERVAL;VALUE=DURATION:PT1H
X-Robots-Tag:noindex
X-PUBLISHED-TTL:PT1H
BEGIN:VTIMEZONE
TZID:Europe/Rome
BEGIN:DAYLIGHT
TZOFFSETFROM:+0100
TZOFFSETTO:+0200
TZNAME:CEST
DTSTART:20250330T010000
END:DAYLIGHT
BEGIN:STANDARD
TZOFFSETFROM:+0200
TZOFFSETTO:+0100
TZNAME:CET
DTSTART:20251026T010000
END:STANDARD
END:VTIMEZONE
BEGIN:VEVENT
DTSTART;TZID=Europe/Rome:20250925T170000
DTEND;TZID=Europe/Rome:20250925T180000
DTSTAMP:20260422T162238
CREATED:20250829T165739Z
LAST-MODIFIED:20250829T165739Z
UID:10021055-1758819600-1758823200@www.iltrentinodeibambini.it
SUMMARY:Prova il baseball - Sport nel verde
DESCRIPTION:Prova il baseball con Trento Baseball ASD. \n\nQuando: giovedì 4\, 11\, 18 e 25 settembre 2025 alle ore 17.00\nDove: Giardino Maria Teresa d’Asburgo – Trento\nCosto: gratuito\nInfo: per bambini\n\nScoprite tutti gli appuntamenti di Sport nel verde QUI.
URL:https://www.iltrentinodeibambini.it/eventi/prova-il-baseball-sport-nel-verde-2/2025-09-25/
LOCATION:Giardino Maria Teresa d’Asburgo\, Via Anna Frank\, Trento
CATEGORIES:Al parco,Eventi speciali
END:VEVENT
BEGIN:VEVENT
DTSTART;TZID=Europe/Rome:20250918T170000
DTEND;TZID=Europe/Rome:20250918T180000
DTSTAMP:20260422T162238
CREATED:20250829T165739Z
LAST-MODIFIED:20250829T165739Z
UID:10021054-1758214800-1758218400@www.iltrentinodeibambini.it
SUMMARY:Prova il baseball - Sport nel verde
DESCRIPTION:Prova il baseball con Trento Baseball ASD. \n\nQuando: giovedì 4\, 11\, 18 e 25 settembre 2025 alle ore 17.00\nDove: Giardino Maria Teresa d’Asburgo – Trento\nCosto: gratuito\nInfo: per bambini\n\nScoprite tutti gli appuntamenti di Sport nel verde QUI.
URL:https://www.iltrentinodeibambini.it/eventi/prova-il-baseball-sport-nel-verde-2/2025-09-18/
LOCATION:Giardino Maria Teresa d’Asburgo\, Via Anna Frank\, Trento
CATEGORIES:Al parco,Eventi speciali
END:VEVENT
BEGIN:VEVENT
DTSTART;TZID=Europe/Rome:20250917T173000
DTEND;TZID=Europe/Rome:20250917T183000
DTSTAMP:20260422T162238
CREATED:20250829T181152Z
LAST-MODIFIED:20250829T181152Z
UID:10021068-1758130200-1758133800@www.iltrentinodeibambini.it
SUMMARY:Giochiamo a scacchi - Sport nel verde
DESCRIPTION:Provare a giocare a scacchi con l’ASDPS Unione Scacchistica Trentina. \n\nQuando: mercoledì 3\, 10 e 17 settembre 2025 alle ore 17.30\nDove: Giardino Maria Teresa d’Asburgo\nCosto: gratuito\nTarget: per tutti\nInfo: sport@comune.trento.it\n\nScoprite tutti gli appuntamenti di Sport nel verde QUI.
URL:https://www.iltrentinodeibambini.it/eventi/giochiamo-a-scacchi-sport-nel-verde-2/2025-09-17/
LOCATION:Giardino Maria Teresa d’Asburgo\, Via Anna Frank\, Trento
CATEGORIES:Al parco,Eventi speciali
END:VEVENT
BEGIN:VEVENT
DTSTART;TZID=Europe/Rome:20250911T170000
DTEND;TZID=Europe/Rome:20250911T180000
DTSTAMP:20260422T162238
CREATED:20250829T165739Z
LAST-MODIFIED:20250829T165739Z
UID:10021053-1757610000-1757613600@www.iltrentinodeibambini.it
SUMMARY:Prova il baseball - Sport nel verde
DESCRIPTION:Prova il baseball con Trento Baseball ASD. \n\nQuando: giovedì 4\, 11\, 18 e 25 settembre 2025 alle ore 17.00\nDove: Giardino Maria Teresa d’Asburgo – Trento\nCosto: gratuito\nInfo: per bambini\n\nScoprite tutti gli appuntamenti di Sport nel verde QUI.
URL:https://www.iltrentinodeibambini.it/eventi/prova-il-baseball-sport-nel-verde-2/2025-09-11/
LOCATION:Giardino Maria Teresa d’Asburgo\, Via Anna Frank\, Trento
CATEGORIES:Al parco,Eventi speciali
END:VEVENT
BEGIN:VEVENT
DTSTART;TZID=Europe/Rome:20250910T173000
DTEND;TZID=Europe/Rome:20250910T183000
DTSTAMP:20260422T162238
CREATED:20250829T181152Z
LAST-MODIFIED:20250829T181152Z
UID:10021067-1757525400-1757529000@www.iltrentinodeibambini.it
SUMMARY:Giochiamo a scacchi - Sport nel verde
DESCRIPTION:Provare a giocare a scacchi con l’ASDPS Unione Scacchistica Trentina. \n\nQuando: mercoledì 3\, 10 e 17 settembre 2025 alle ore 17.30\nDove: Giardino Maria Teresa d’Asburgo\nCosto: gratuito\nTarget: per tutti\nInfo: sport@comune.trento.it\n\nScoprite tutti gli appuntamenti di Sport nel verde QUI.
URL:https://www.iltrentinodeibambini.it/eventi/giochiamo-a-scacchi-sport-nel-verde-2/2025-09-10/
LOCATION:Giardino Maria Teresa d’Asburgo\, Via Anna Frank\, Trento
CATEGORIES:Al parco,Eventi speciali
END:VEVENT
BEGIN:VEVENT
DTSTART;TZID=Europe/Rome:20250904T170000
DTEND;TZID=Europe/Rome:20250904T180000
DTSTAMP:20260422T162238
CREATED:20250829T165739Z
LAST-MODIFIED:20250829T165739Z
UID:10021052-1757005200-1757008800@www.iltrentinodeibambini.it
SUMMARY:Prova il baseball - Sport nel verde
DESCRIPTION:Prova il baseball con Trento Baseball ASD. \n\nQuando: giovedì 4\, 11\, 18 e 25 settembre 2025 alle ore 17.00\nDove: Giardino Maria Teresa d’Asburgo – Trento\nCosto: gratuito\nInfo: per bambini\n\nScoprite tutti gli appuntamenti di Sport nel verde QUI.
URL:https://www.iltrentinodeibambini.it/eventi/prova-il-baseball-sport-nel-verde-2/2025-09-04/
LOCATION:Giardino Maria Teresa d’Asburgo\, Via Anna Frank\, Trento
CATEGORIES:Al parco,Eventi speciali
END:VEVENT
BEGIN:VEVENT
DTSTART;TZID=Europe/Rome:20250903T173000
DTEND;TZID=Europe/Rome:20250903T183000
DTSTAMP:20260422T162238
CREATED:20250829T181152Z
LAST-MODIFIED:20250829T181152Z
UID:10021066-1756920600-1756924200@www.iltrentinodeibambini.it
SUMMARY:Giochiamo a scacchi - Sport nel verde
DESCRIPTION:Provare a giocare a scacchi con l’ASDPS Unione Scacchistica Trentina. \n\nQuando: mercoledì 3\, 10 e 17 settembre 2025 alle ore 17.30\nDove: Giardino Maria Teresa d’Asburgo\nCosto: gratuito\nTarget: per tutti\nInfo: sport@comune.trento.it\n\nScoprite tutti gli appuntamenti di Sport nel verde QUI.
URL:https://www.iltrentinodeibambini.it/eventi/giochiamo-a-scacchi-sport-nel-verde-2/2025-09-03/
LOCATION:Giardino Maria Teresa d’Asburgo\, Via Anna Frank\, Trento
CATEGORIES:Al parco,Eventi speciali
END:VEVENT
END:VCALENDAR