BEGIN:VCALENDAR
VERSION:2.0
PRODID:-//Il Trentino dei Bambini - ECPv6.13.2//NONSGML v1.0//EN
CALSCALE:GREGORIAN
METHOD:PUBLISH
X-ORIGINAL-URL:https://www.iltrentinodeibambini.it
X-WR-CALDESC:Eventi per Il Trentino dei Bambini
REFRESH-INTERVAL;VALUE=DURATION:PT1H
X-Robots-Tag:noindex
X-PUBLISHED-TTL:PT1H
BEGIN:VTIMEZONE
TZID:Europe/Rome
BEGIN:DAYLIGHT
TZOFFSETFROM:+0100
TZOFFSETTO:+0200
TZNAME:CEST
DTSTART:20250330T010000
END:DAYLIGHT
BEGIN:STANDARD
TZOFFSETFROM:+0200
TZOFFSETTO:+0100
TZNAME:CET
DTSTART:20251026T010000
END:STANDARD
BEGIN:DAYLIGHT
TZOFFSETFROM:+0100
TZOFFSETTO:+0200
TZNAME:CEST
DTSTART:20260329T010000
END:DAYLIGHT
BEGIN:STANDARD
TZOFFSETFROM:+0200
TZOFFSETTO:+0100
TZNAME:CET
DTSTART:20261025T010000
END:STANDARD
END:VTIMEZONE
BEGIN:VEVENT
DTSTART;TZID=Europe/Rome:20251226T100000
DTEND;TZID=Europe/Rome:20260106T180000
DTSTAMP:20260423T125041
CREATED:20251103T092330Z
LAST-MODIFIED:20251103T092330Z
UID:10021665-1766743200-1767722400@www.iltrentinodeibambini.it
SUMMARY:Paese dei Presepi
DESCRIPTION:A Miola sull’Altopiano di Piné\, durante il periodo natalizio\, sulle finestre\, fontane\, in antichi vòlt e portici vengono allestiti tanti bellissimi presepi artigianali. I bambini hanno la possibilità di partecipare ad una caccia al tesoro davvero unica: questi numerosi presepi nascondono degli oggetti misteriosi! Sarà attivo anche un trenino panoramico. Tutte le info QUI. \nQuando: \n\ndal 6 al 21 dicembre 2025 solo sabato e domenica dalle ore 10.00 alle 18.00\ndal 26 dicembre 2025 al 6 gennaio 2026 tutti i giorni dalle ore 10.00 alle 18.00
URL:https://www.iltrentinodeibambini.it/eventi/paese-dei-presepi-2/
LOCATION:miola
CATEGORIES:Eventi speciali
END:VEVENT
BEGIN:VEVENT
DTSTART;TZID=Europe/Rome:20251221T100000
DTEND;TZID=Europe/Rome:20251221T180000
DTSTAMP:20260423T125041
CREATED:20251103T092223Z
LAST-MODIFIED:20251103T092223Z
UID:10021664-1766311200-1766340000@www.iltrentinodeibambini.it
SUMMARY:Paese dei Presepi
DESCRIPTION:A Miola sull’Altopiano di Piné\, durante il periodo natalizio\, sulle finestre\, fontane\, in antichi vòlt e portici vengono allestiti tanti bellissimi presepi artigianali. I bambini hanno la possibilità di partecipare ad una caccia al tesoro davvero unica: questi numerosi presepi nascondono degli oggetti misteriosi! Sarà attivo anche un trenino panoramico. Tutte le info QUI. \nQuando: \n\ndal 6 al 21 dicembre 2025 solo sabato e domenica dalle ore 10.00 alle 18.00\ndal 26 dicembre 2025 al 6 gennaio 2026 tutti i giorni dalle ore 10.00 alle 18.00
URL:https://www.iltrentinodeibambini.it/eventi/paese-dei-presepi/2025-12-21/
LOCATION:miola
CATEGORIES:Eventi speciali
END:VEVENT
BEGIN:VEVENT
DTSTART;TZID=Europe/Rome:20251220T100000
DTEND;TZID=Europe/Rome:20251220T180000
DTSTAMP:20260423T125041
CREATED:20251103T092223Z
LAST-MODIFIED:20251103T092223Z
UID:10021663-1766224800-1766253600@www.iltrentinodeibambini.it
SUMMARY:Paese dei Presepi
DESCRIPTION:A Miola sull’Altopiano di Piné\, durante il periodo natalizio\, sulle finestre\, fontane\, in antichi vòlt e portici vengono allestiti tanti bellissimi presepi artigianali. I bambini hanno la possibilità di partecipare ad una caccia al tesoro davvero unica: questi numerosi presepi nascondono degli oggetti misteriosi! Sarà attivo anche un trenino panoramico. Tutte le info QUI. \nQuando: \n\ndal 6 al 21 dicembre 2025 solo sabato e domenica dalle ore 10.00 alle 18.00\ndal 26 dicembre 2025 al 6 gennaio 2026 tutti i giorni dalle ore 10.00 alle 18.00
URL:https://www.iltrentinodeibambini.it/eventi/paese-dei-presepi/2025-12-20/
LOCATION:miola
CATEGORIES:Eventi speciali
END:VEVENT
BEGIN:VEVENT
DTSTART;TZID=Europe/Rome:20251214T100000
DTEND;TZID=Europe/Rome:20251214T180000
DTSTAMP:20260423T125041
CREATED:20251103T092223Z
LAST-MODIFIED:20251103T092223Z
UID:10021662-1765706400-1765735200@www.iltrentinodeibambini.it
SUMMARY:Paese dei Presepi
DESCRIPTION:A Miola sull’Altopiano di Piné\, durante il periodo natalizio\, sulle finestre\, fontane\, in antichi vòlt e portici vengono allestiti tanti bellissimi presepi artigianali. I bambini hanno la possibilità di partecipare ad una caccia al tesoro davvero unica: questi numerosi presepi nascondono degli oggetti misteriosi! Sarà attivo anche un trenino panoramico. Tutte le info QUI. \nQuando: \n\ndal 6 al 21 dicembre 2025 solo sabato e domenica dalle ore 10.00 alle 18.00\ndal 26 dicembre 2025 al 6 gennaio 2026 tutti i giorni dalle ore 10.00 alle 18.00
URL:https://www.iltrentinodeibambini.it/eventi/paese-dei-presepi/2025-12-14/
LOCATION:miola
CATEGORIES:Eventi speciali
END:VEVENT
BEGIN:VEVENT
DTSTART;TZID=Europe/Rome:20251213T100000
DTEND;TZID=Europe/Rome:20251213T180000
DTSTAMP:20260423T125041
CREATED:20251103T092223Z
LAST-MODIFIED:20251103T092223Z
UID:10021661-1765620000-1765648800@www.iltrentinodeibambini.it
SUMMARY:Paese dei Presepi
DESCRIPTION:A Miola sull’Altopiano di Piné\, durante il periodo natalizio\, sulle finestre\, fontane\, in antichi vòlt e portici vengono allestiti tanti bellissimi presepi artigianali. I bambini hanno la possibilità di partecipare ad una caccia al tesoro davvero unica: questi numerosi presepi nascondono degli oggetti misteriosi! Sarà attivo anche un trenino panoramico. Tutte le info QUI. \nQuando: \n\ndal 6 al 21 dicembre 2025 solo sabato e domenica dalle ore 10.00 alle 18.00\ndal 26 dicembre 2025 al 6 gennaio 2026 tutti i giorni dalle ore 10.00 alle 18.00
URL:https://www.iltrentinodeibambini.it/eventi/paese-dei-presepi/2025-12-13/
LOCATION:miola
CATEGORIES:Eventi speciali
END:VEVENT
BEGIN:VEVENT
DTSTART;TZID=Europe/Rome:20251207T100000
DTEND;TZID=Europe/Rome:20251207T180000
DTSTAMP:20260423T125041
CREATED:20251103T092223Z
LAST-MODIFIED:20251103T092223Z
UID:10021660-1765101600-1765130400@www.iltrentinodeibambini.it
SUMMARY:Paese dei Presepi
DESCRIPTION:A Miola sull’Altopiano di Piné\, durante il periodo natalizio\, sulle finestre\, fontane\, in antichi vòlt e portici vengono allestiti tanti bellissimi presepi artigianali. I bambini hanno la possibilità di partecipare ad una caccia al tesoro davvero unica: questi numerosi presepi nascondono degli oggetti misteriosi! Sarà attivo anche un trenino panoramico. Tutte le info QUI. \nQuando: \n\ndal 6 al 21 dicembre 2025 solo sabato e domenica dalle ore 10.00 alle 18.00\ndal 26 dicembre 2025 al 6 gennaio 2026 tutti i giorni dalle ore 10.00 alle 18.00
URL:https://www.iltrentinodeibambini.it/eventi/paese-dei-presepi/2025-12-07/
LOCATION:miola
CATEGORIES:Eventi speciali
END:VEVENT
BEGIN:VEVENT
DTSTART;TZID=Europe/Rome:20251206T100000
DTEND;TZID=Europe/Rome:20251206T180000
DTSTAMP:20260423T125041
CREATED:20251103T092223Z
LAST-MODIFIED:20251103T092223Z
UID:10021659-1765015200-1765044000@www.iltrentinodeibambini.it
SUMMARY:Paese dei Presepi
DESCRIPTION:A Miola sull’Altopiano di Piné\, durante il periodo natalizio\, sulle finestre\, fontane\, in antichi vòlt e portici vengono allestiti tanti bellissimi presepi artigianali. I bambini hanno la possibilità di partecipare ad una caccia al tesoro davvero unica: questi numerosi presepi nascondono degli oggetti misteriosi! Sarà attivo anche un trenino panoramico. Tutte le info QUI. \nQuando: \n\ndal 6 al 21 dicembre 2025 solo sabato e domenica dalle ore 10.00 alle 18.00\ndal 26 dicembre 2025 al 6 gennaio 2026 tutti i giorni dalle ore 10.00 alle 18.00
URL:https://www.iltrentinodeibambini.it/eventi/paese-dei-presepi/2025-12-06/
LOCATION:miola
CATEGORIES:Eventi speciali
END:VEVENT
END:VCALENDAR