BEGIN:VCALENDAR
VERSION:2.0
PRODID:-//Il Trentino dei Bambini - ECPv6.13.2//NONSGML v1.0//EN
CALSCALE:GREGORIAN
METHOD:PUBLISH
X-WR-CALNAME:Il Trentino dei Bambini
X-ORIGINAL-URL:https://www.iltrentinodeibambini.it
X-WR-CALDESC:Eventi per Il Trentino dei Bambini
REFRESH-INTERVAL;VALUE=DURATION:PT1H
X-Robots-Tag:noindex
X-PUBLISHED-TTL:PT1H
BEGIN:VTIMEZONE
TZID:Europe/Rome
BEGIN:DAYLIGHT
TZOFFSETFROM:+0100
TZOFFSETTO:+0200
TZNAME:CEST
DTSTART:20260329T010000
END:DAYLIGHT
BEGIN:STANDARD
TZOFFSETFROM:+0200
TZOFFSETTO:+0100
TZNAME:CET
DTSTART:20261025T010000
END:STANDARD
END:VTIMEZONE
BEGIN:VEVENT
DTSTART;VALUE=DATE:20260411
DTEND;VALUE=DATE:20260413
DTSTAMP:20260423T113256
CREATED:20260329T132754Z
LAST-MODIFIED:20260329T132754Z
UID:10023072-1775865600-1776038399@www.iltrentinodeibambini.it
SUMMARY:Fiorinda
DESCRIPTION:Sabato 11 e domenica 12 aprile 2026 a Mollaro in Val di Non si festeggia la fioritura dei meli. Due giorni ricchi di attività per tutti i gusti e tutte le età. \n\ngastronomia\nmercatino dei produttori locali\nmercatino dell’artigianato\nattività e laboratori per famiglie\nmostre\, spettacoli\nvisite guidate\nmelabus\n\nScopri le attività per le famiglie e scarica il programma completo dell’evento leggendo il nostro articolo Fiorinda: Mollaro in festa \nFiorinda (APT Val di Non)\ntel. 0463.830133\ne-mail: info@visitvaldinon.it
URL:https://www.iltrentinodeibambini.it/eventi/fiorinda/
LOCATION:Mollaro\, Taio\, 38012\, Italia
CATEGORIES:Eventi speciali,Feste,Laboratori,Spazi d'incontro,Spettacoli
GEO:46.3220218;11.0694983
END:VEVENT
END:VCALENDAR