BEGIN:VCALENDAR
VERSION:2.0
PRODID:-//Il Trentino dei Bambini - ECPv6.13.2//NONSGML v1.0//EN
CALSCALE:GREGORIAN
METHOD:PUBLISH
X-WR-CALNAME:Il Trentino dei Bambini
X-ORIGINAL-URL:https://www.iltrentinodeibambini.it
X-WR-CALDESC:Eventi per Il Trentino dei Bambini
REFRESH-INTERVAL;VALUE=DURATION:PT1H
X-Robots-Tag:noindex
X-PUBLISHED-TTL:PT1H
BEGIN:VTIMEZONE
TZID:Europe/Rome
BEGIN:DAYLIGHT
TZOFFSETFROM:+0100
TZOFFSETTO:+0200
TZNAME:CEST
DTSTART:20260329T010000
END:DAYLIGHT
BEGIN:STANDARD
TZOFFSETFROM:+0200
TZOFFSETTO:+0100
TZNAME:CET
DTSTART:20261025T010000
END:STANDARD
END:VTIMEZONE
BEGIN:VEVENT
DTSTART;TZID=Europe/Rome:20260510T093000
DTEND;TZID=Europe/Rome:20260510T120000
DTSTAMP:20260423T113203
CREATED:20250921T121314Z
LAST-MODIFIED:20250921T121314Z
UID:10021240-1778405400-1778414400@www.iltrentinodeibambini.it
SUMMARY:Coccole: la nostra voce
DESCRIPTION:Concerti interattivi per bambini e famiglie. Attraverso l’ascolto\, il movimento e l’interazione i bambini saranno veri e propri protagonisti dell’esperienza. Tra canti e danze potranno cimentarsi nella creazione del proprio concerto\, scoprendo in autonomia la gioia della musica. \n\nQuando: domenica 10 maggio 2026 alle ore 9.30 | età: 0-3 anni | alle ore 11.00 | età: 3-7 anni\nDove: Museion – Bolzano\nCosto: adulti 8 euro | bambini 5 euro\nInfo: target indicato nell’orario dello spettacolo\n\nScopri tutti gli spettacoli per piccoli della Fondazione Haydn QUI.
URL:https://www.iltrentinodeibambini.it/eventi/coccole-la-nostra-voce-3/
LOCATION:MUSEION\, Piazza Piero Siena\, 1\, Bolzano
CATEGORIES:Spettacoli
GEO:46.4973349;11.3483884
X-APPLE-STRUCTURED-LOCATION;VALUE=URI;X-ADDRESS=MUSEION Piazza Piero Siena 1 Bolzano;X-APPLE-RADIUS=500;X-TITLE=Piazza Piero Siena\, 1:geo:11.3483884,46.4973349
END:VEVENT
END:VCALENDAR