BEGIN:VCALENDAR
VERSION:2.0
PRODID:-//Il Trentino dei Bambini - ECPv6.13.2//NONSGML v1.0//EN
CALSCALE:GREGORIAN
METHOD:PUBLISH
X-WR-CALNAME:Il Trentino dei Bambini
X-ORIGINAL-URL:https://www.iltrentinodeibambini.it
X-WR-CALDESC:Eventi per Il Trentino dei Bambini
REFRESH-INTERVAL;VALUE=DURATION:PT1H
X-Robots-Tag:noindex
X-PUBLISHED-TTL:PT1H
BEGIN:VTIMEZONE
TZID:Europe/Rome
BEGIN:DAYLIGHT
TZOFFSETFROM:+0100
TZOFFSETTO:+0200
TZNAME:CEST
DTSTART:20250330T010000
END:DAYLIGHT
BEGIN:STANDARD
TZOFFSETFROM:+0200
TZOFFSETTO:+0100
TZNAME:CET
DTSTART:20251026T010000
END:STANDARD
BEGIN:DAYLIGHT
TZOFFSETFROM:+0100
TZOFFSETTO:+0200
TZNAME:CEST
DTSTART:20260329T010000
END:DAYLIGHT
BEGIN:STANDARD
TZOFFSETFROM:+0200
TZOFFSETTO:+0100
TZNAME:CET
DTSTART:20261025T010000
END:STANDARD
END:VTIMEZONE
BEGIN:VEVENT
DTSTART;TZID=Europe/Rome:20260106T143000
DTEND;TZID=Europe/Rome:20260106T160000
DTSTAMP:20260423T124943
CREATED:20251209T203343Z
LAST-MODIFIED:20251209T203343Z
UID:10022574-1767709800-1767715200@www.iltrentinodeibambini.it
SUMMARY:Befana dal campanile
DESCRIPTION:Martedì 6 gennaio ore 14.30 in Piazza Springa a Nomi\, presso il campanile della Chiesa Parrocchiale della Madonna della Consolazione\, arriva la Befana! La Befana scende dal campanile distribuendo caramelle a tutti i bambini. A cura dei Vigili del Fuoco Volontari di Nomi e di US Nomi. \n 
URL:https://www.iltrentinodeibambini.it/eventi/befana-dal-campanile/
LOCATION:Nomi
CATEGORIES:Eventi speciali
END:VEVENT
BEGIN:VEVENT
DTSTART;TZID=Europe/Rome:20251219T163000
DTEND;TZID=Europe/Rome:20251219T173000
DTSTAMP:20260423T124943
CREATED:20251209T203024Z
LAST-MODIFIED:20251209T203024Z
UID:10022573-1766161800-1766165400@www.iltrentinodeibambini.it
SUMMARY:Truffaldino e lo spirito del Natale
DESCRIPTION:Venerdì 19 dicembre ore 16.30\, Granaio di Nomi | Truffaldino e lo Spirito del Natale\, spettacolo di burattini a cura di Luciano Gottardi. \n 
URL:https://www.iltrentinodeibambini.it/eventi/truffaldino-e-lo-spirito-del-natale/
LOCATION:Nomi
CATEGORIES:A teatro
END:VEVENT
BEGIN:VEVENT
DTSTART;TZID=Europe/Rome:20251218T170000
DTEND;TZID=Europe/Rome:20251218T180000
DTSTAMP:20260423T124943
CREATED:20251209T202826Z
LAST-MODIFIED:20251209T202826Z
UID:10022572-1766077200-1766080800@www.iltrentinodeibambini.it
SUMMARY:Festa di Natale a Nomi
DESCRIPTION:Come da tradizione di Natale in Vallagarina\, Nomi si trasforma nel paese dei presepi monumentali. Le rappresentazioni della natività\, collocate nelle contrade\, nei parchi e nello storico granaio\, così come negli angoli più nascosti\, sulle soglie e sui davanzali delle vecchie case del paese\, saranno particolarmente suggestive la sera\, illuminate da mille lucine. Programma completo QUI \n\nMartedì 16 dicembre ore 17.30\, Piazza Springa  a Nomi| Festa di Natale\, con i bambini della Scuola dell’Infanzia Romani De Moll.\nGiovedì 18 dicembre ore 17.00 | Spettacolo di Natale\, con i bambini della Scuola Primaria L. Vicentini e accompagnamento con musiche natalizie dello Zampognaro Lagaro.\n\n 
URL:https://www.iltrentinodeibambini.it/eventi/festa-di-natale-a-nomi/2025-12-18/
LOCATION:Nomi
CATEGORIES:Feste
END:VEVENT
BEGIN:VEVENT
DTSTART;TZID=Europe/Rome:20251216T173000
DTEND;TZID=Europe/Rome:20251216T183000
DTSTAMP:20260423T124943
CREATED:20251209T202826Z
LAST-MODIFIED:20251209T202826Z
UID:10022571-1765906200-1765909800@www.iltrentinodeibambini.it
SUMMARY:Festa di Natale a Nomi
DESCRIPTION:Come da tradizione di Natale in Vallagarina\, Nomi si trasforma nel paese dei presepi monumentali. Le rappresentazioni della natività\, collocate nelle contrade\, nei parchi e nello storico granaio\, così come negli angoli più nascosti\, sulle soglie e sui davanzali delle vecchie case del paese\, saranno particolarmente suggestive la sera\, illuminate da mille lucine. Programma completo QUI \n\nMartedì 16 dicembre ore 17.30\, Piazza Springa  a Nomi| Festa di Natale\, con i bambini della Scuola dell’Infanzia Romani De Moll.\nGiovedì 18 dicembre ore 17.00 | Spettacolo di Natale\, con i bambini della Scuola Primaria L. Vicentini e accompagnamento con musiche natalizie dello Zampognaro Lagaro.\n\n 
URL:https://www.iltrentinodeibambini.it/eventi/festa-di-natale-a-nomi/2025-12-16/
LOCATION:Nomi
CATEGORIES:Feste
END:VEVENT
BEGIN:VEVENT
DTSTART;TZID=Europe/Rome:20251108T160000
DTEND;TZID=Europe/Rome:20251108T170000
DTSTAMP:20260423T124943
CREATED:20250930T072925Z
LAST-MODIFIED:20250930T072925Z
UID:10021346-1762617600-1762621200@www.iltrentinodeibambini.it
SUMMARY:Iacobel e lo spirito della natura
DESCRIPTION:Il Corpo Musicale Santa Cecilia di Volano porta in scena “Iacobel e lo spirito della natura”. Una fiaba musicale inedita scritta e arrangiata per trasportare bambini e famiglie in un mondo incantato. A seguire merenda per tutti! Maggiori info QUI. \n\nQuando: sabato 8 novembre 2025 alle ore 16.00\nDove: granaio di Nomi\nCosto: ingresso libero\nDurata: un’ora circa
URL:https://www.iltrentinodeibambini.it/eventi/iacobel-e-lo-spirito-della-natura-2-2-2/
LOCATION:Nomi
CATEGORIES:A teatro,Eventi speciali
END:VEVENT
END:VCALENDAR