BEGIN:VCALENDAR
VERSION:2.0
PRODID:-//Il Trentino dei Bambini - ECPv6.13.2//NONSGML v1.0//EN
CALSCALE:GREGORIAN
METHOD:PUBLISH
X-WR-CALNAME:Il Trentino dei Bambini
X-ORIGINAL-URL:https://www.iltrentinodeibambini.it
X-WR-CALDESC:Eventi per Il Trentino dei Bambini
REFRESH-INTERVAL;VALUE=DURATION:PT1H
X-Robots-Tag:noindex
X-PUBLISHED-TTL:PT1H
BEGIN:VTIMEZONE
TZID:Europe/Rome
BEGIN:DAYLIGHT
TZOFFSETFROM:+0100
TZOFFSETTO:+0200
TZNAME:CEST
DTSTART:20250330T010000
END:DAYLIGHT
BEGIN:STANDARD
TZOFFSETFROM:+0200
TZOFFSETTO:+0100
TZNAME:CET
DTSTART:20251026T010000
END:STANDARD
END:VTIMEZONE
BEGIN:VEVENT
DTSTART;TZID=Europe/Rome:20251220T170000
DTEND;TZID=Europe/Rome:20251220T183000
DTSTAMP:20260422T050541
CREATED:20251117T084700Z
LAST-MODIFIED:20251117T084700Z
UID:10021833-1766250000-1766255400@www.iltrentinodeibambini.it
SUMMARY:Incanto di fuoco
DESCRIPTION:Uno spettacolo fiabesco tra luci e fuoco dove una strega gentile di un tempo lontano svela la forza dell’amore e della magia custodita in ognuno di noi. A conclusione deliziosi bannok secondo la tradizione nordica. \n\nQuando: sabato 20 dicembre 2025 alle ore 17.00\nDove: Parco di Clarofonte\nCosto: gratuito\n\nScoprite tutti gli appuntamenti del Villaggio degli Intrecci QUI.
URL:https://www.iltrentinodeibambini.it/eventi/incanto-di-fuoco/
LOCATION:Parco Clarofonte\, Via Risorgimento\, 1\, Transacqua
CATEGORIES:Eventi speciali
END:VEVENT
BEGIN:VEVENT
DTSTART;TZID=Europe/Rome:20251212T163000
DTEND;TZID=Europe/Rome:20251212T180000
DTSTAMP:20260422T050541
CREATED:20251117T081508Z
LAST-MODIFIED:20251117T081508Z
UID:10021831-1765557000-1765562400@www.iltrentinodeibambini.it
SUMMARY:Le sfide del Nord: giochi e magie
DESCRIPTION:Giochi\, racconti e attività creative liberamente ispirate alle atmosfere nordiche per bambini. Locanda aperta per una gustosa merenda. \n\nQuando: giovedì 12 dicembre 2025 alle ore 16.30\nDove: Parco di Clarofonte\nCosto: gratuito\nInfo: target 6+\n\nScoprite tutti gli appuntamenti del Villaggio degli Intrecci QUI.
URL:https://www.iltrentinodeibambini.it/eventi/le-sfide-del-nord-giochi-e-magie/
LOCATION:Parco Clarofonte\, Via Risorgimento\, 1\, Transacqua
CATEGORIES:Eventi speciali
END:VEVENT
BEGIN:VEVENT
DTSTART;TZID=Europe/Rome:20251129T170000
DTEND;TZID=Europe/Rome:20251129T190000
DTSTAMP:20260422T050541
CREATED:20251116T175531Z
LAST-MODIFIED:20251116T175531Z
UID:10021828-1764435600-1764442800@www.iltrentinodeibambini.it
SUMMARY:Inaugurazione Villaggio degli Intrecci
DESCRIPTION:Pomeriggio con coro\, musica e merenda in un’atmosfera invernale per inaugurare il Villaggio degli Intrecci. \n\nQuando: sabato 29 novembre 2025 alle ore 17.00\nDove: Parco Clarofonte – Transacqua\nCosto: ingresso gratuito\n\nScoprite tutti gli appuntamenti del Villaggio degli Intrecci QUI.
URL:https://www.iltrentinodeibambini.it/eventi/inaugurazione-villaggio-degli-intrecci/
LOCATION:Parco Clarofonte\, Via Risorgimento\, 1\, Transacqua
CATEGORIES:Eventi speciali
END:VEVENT
END:VCALENDAR