BEGIN:VCALENDAR
VERSION:2.0
PRODID:-//Il Trentino dei Bambini - ECPv6.13.2//NONSGML v1.0//EN
CALSCALE:GREGORIAN
METHOD:PUBLISH
X-WR-CALNAME:Il Trentino dei Bambini
X-ORIGINAL-URL:https://www.iltrentinodeibambini.it
X-WR-CALDESC:Eventi per Il Trentino dei Bambini
REFRESH-INTERVAL;VALUE=DURATION:PT1H
X-Robots-Tag:noindex
X-PUBLISHED-TTL:PT1H
BEGIN:VTIMEZONE
TZID:Europe/Rome
BEGIN:DAYLIGHT
TZOFFSETFROM:+0100
TZOFFSETTO:+0200
TZNAME:CEST
DTSTART:20260329T010000
END:DAYLIGHT
BEGIN:STANDARD
TZOFFSETFROM:+0200
TZOFFSETTO:+0100
TZNAME:CET
DTSTART:20261025T010000
END:STANDARD
END:VTIMEZONE
BEGIN:VEVENT
DTSTART;TZID=Europe/Rome:20260426T113000
DTEND;TZID=Europe/Rome:20260426T170000
DTSTAMP:20260422T110918
CREATED:20260421T143137Z
LAST-MODIFIED:20260421T143137Z
UID:10023178-1777203000-1777222800@www.iltrentinodeibambini.it
SUMMARY:Inaugurazione del sentiero Melinda e la Scatola Magica
DESCRIPTION:Tutto pronto a Romallo in piazza Agosti per l’inaugurazione del nuovo sentiero tematico Melinda e la Scatola Magica. Un viaggio che attraversa i meleti e la fantasia\, mentre si incontrano animali parlanti pronti a donare elementi preziosi per… lo si scoprirà solo alla fine di questo percorso ludico-didattico! Protagoniste\, assieme ai bambini ed agli animali in legno\, sono le tante mele che si coltivano in Val di Non\, ognuna con caratteristiche diverse e uniche. Necessario procurarsi in anticipo il libretto illustrato presso gli Info Point APT o\, il giorno dell’inaugurazione\, anche a Romallo (10 euro). \nDOVE: Romallo (Val di Non)\, piazza Agosti\nQUANDO: domenica 26 agosto 2026 ore 11.30 in occasione della Sagra di S.Vidal\nADATTO A: tutti (anche in passeggino)\nCOSTO: 10 euro per il libro gioco delle attività \nInfo: \nAPT Val di Non\ne-mail: info@visitvaldinon.it\ntel. 0463.830133\nsito: www.visitvaldinon.it \nPer conoscere di più leggi il nostro articolo completo: Val di Non: Melinda e la Scatola Magica
URL:https://www.iltrentinodeibambini.it/eventi/inaugurazione-del-sentiero-melinda-e-la-scatola-magica/
LOCATION:Romallo\, Trentino\, 38028\, Italia
CATEGORIES:Escursioni,Eventi speciali,Feste
GEO:46.4120444;11.0427083
END:VEVENT
END:VCALENDAR