BEGIN:VCALENDAR
VERSION:2.0
PRODID:-//Il Trentino dei Bambini - ECPv6.13.2//NONSGML v1.0//EN
CALSCALE:GREGORIAN
METHOD:PUBLISH
X-ORIGINAL-URL:https://www.iltrentinodeibambini.it
X-WR-CALDESC:Eventi per Il Trentino dei Bambini
REFRESH-INTERVAL;VALUE=DURATION:PT1H
X-Robots-Tag:noindex
X-PUBLISHED-TTL:PT1H
BEGIN:VTIMEZONE
TZID:Europe/Rome
BEGIN:DAYLIGHT
TZOFFSETFROM:+0100
TZOFFSETTO:+0200
TZNAME:CEST
DTSTART:20250330T010000
END:DAYLIGHT
BEGIN:STANDARD
TZOFFSETFROM:+0200
TZOFFSETTO:+0100
TZNAME:CET
DTSTART:20251026T010000
END:STANDARD
END:VTIMEZONE
BEGIN:VEVENT
DTSTART;VALUE=DATE:20250802
DTEND;VALUE=DATE:20250804
DTSTAMP:20260424T143057
CREATED:20250721T220343Z
LAST-MODIFIED:20250721T220343Z
UID:10020840-1754092800-1754265599@www.iltrentinodeibambini.it
SUMMARY:Festa Ta Mont - Val San Nicolò
DESCRIPTION:2 e 3 agosto 2025: due giorni di musica\, tradizioni e sapori autentici\, dove la natura e la cultura di montagna si incontrano nella splendida cornice della Val San Nicolò\, a Pozza di Fassa. Per la 18ª edizione di Festa ta Mont\, il tema è il cambiamento\, attraverso il racconto di come la natura\, la cultura ladina\, la musica e la cucina si trasformano nel tempo. \nDalle ore 9.00 e per tutta la giornata sarà attivo un servizio di bus navetta con partenza da località Vidor (nei pressi dell’omonimo campeggio) e arrivo presso il parcheggio in loc. Saùch.  Andata e ritorno €6 Corsa singola €4. \nInfo QUI
URL:https://www.iltrentinodeibambini.it/eventi/festa-ta-mont-val-san-nicolo/
LOCATION:Val San Nicolò\, Loc. San Nicolò\, San Giovanni di Fassa\, TN\, Italia
CATEGORIES:Eventi speciali,Feste
END:VEVENT
END:VCALENDAR